BEGIN:VCALENDAR
VERSION:2.0
PRODID:-//AFLabs urnik izvoz - bf//aflabs.si//SI
NAME:UL BF Urnik
X-WR-CALNAME:UL BF Urnik
DTSTAMP:20260422T171343Z
REFRESH-INTERVAL:PT1H
SOURCE:https://urniki.bf.uni-lj.si/en/teacher/174/?day=2025-10-06&export=1
URL:https://urniki.bf.uni-lj.si/en/teacher/174/?day=2025-10-06&export=1
X-PUBLISHED-TTL:PT1H
X-WR-TIMEZONE:Europe/Ljubljana
BEGIN:VTIMEZONE
TZID:Europe/Ljubljana
BEGIN:DAYLIGHT
DTSTART:20260329T020000
RDATE:20260329T020000
RDATE:20270328T020000
TZNAME:CEST
TZOFFSETFROM:+0100
TZOFFSETTO:+0200
END:DAYLIGHT
BEGIN:STANDARD
DTSTART:20261025T030000
RDATE:20261025T030000
RDATE:20271031T030000
TZNAME:CET
TZOFFSETFROM:+0200
TZOFFSETTO:+0100
END:STANDARD
END:VTIMEZONE
BEGIN:VEVENT
SUMMARY:Rastline za ozelenjevanje II (KA032)\, laboratorijske vaje (LV)\, 
 [:1]
DTSTART;TZID=Europe/Ljubljana:20251002T100000
DTEND;TZID=Europe/Ljubljana:20251002T120000
DTSTAMP:20260422T171343Z
UID:bf-AFLABS-URNIK:srecanje:25353-2025-10-02 10:00:00+02:00
DESCRIPTION:Predmet: Rastline za ozelenjevanje II (KA032)\, laboratorijske
  vaje (LV)\, [:1]\nLetniki: Krajinska arhitektura 3. letnik (LAUN)\nIzvaja
 lci: Marko Dobrilovič\nProstor: Risalnica Krajinska arhitektura 4
END:VEVENT
BEGIN:VEVENT
SUMMARY:Rastline za ozelenjevanje II (KA032)\, laboratorijske vaje (LV)\, 
 [:1]
DTSTART;TZID=Europe/Ljubljana:20251009T100000
DTEND;TZID=Europe/Ljubljana:20251009T120000
DTSTAMP:20260422T171343Z
UID:bf-AFLABS-URNIK:srecanje:25353-2025-10-09 10:00:00+02:00
DESCRIPTION:Predmet: Rastline za ozelenjevanje II (KA032)\, laboratorijske
  vaje (LV)\, [:1]\nLetniki: Krajinska arhitektura 3. letnik (LAUN)\nIzvaja
 lci: Marko Dobrilovič\nProstor: Risalnica Krajinska arhitektura 4
END:VEVENT
BEGIN:VEVENT
SUMMARY:Rastline za ozelenjevanje II (KA032)\, laboratorijske vaje (LV)\, 
 [:1]
DTSTART;TZID=Europe/Ljubljana:20251016T100000
DTEND;TZID=Europe/Ljubljana:20251016T120000
DTSTAMP:20260422T171343Z
UID:bf-AFLABS-URNIK:srecanje:25353-2025-10-16 10:00:00+02:00
DESCRIPTION:Predmet: Rastline za ozelenjevanje II (KA032)\, laboratorijske
  vaje (LV)\, [:1]\nLetniki: Krajinska arhitektura 3. letnik (LAUN)\nIzvaja
 lci: Marko Dobrilovič\nProstor: Risalnica Krajinska arhitektura 4
END:VEVENT
BEGIN:VEVENT
SUMMARY:Rastline za ozelenjevanje II (KA032)\, laboratorijske vaje (LV)\, 
 [:1]
DTSTART;TZID=Europe/Ljubljana:20251023T100000
DTEND;TZID=Europe/Ljubljana:20251023T120000
DTSTAMP:20260422T171343Z
UID:bf-AFLABS-URNIK:srecanje:25353-2025-10-23 10:00:00+02:00
DESCRIPTION:Predmet: Rastline za ozelenjevanje II (KA032)\, laboratorijske
  vaje (LV)\, [:1]\nLetniki: Krajinska arhitektura 3. letnik (LAUN)\nIzvaja
 lci: Marko Dobrilovič\nProstor: Risalnica Krajinska arhitektura 4
END:VEVENT
BEGIN:VEVENT
SUMMARY:Rastline za ozelenjevanje II (KA032)\, laboratorijske vaje (LV)\, 
 [:1]
DTSTART;TZID=Europe/Ljubljana:20251030T100000
DTEND;TZID=Europe/Ljubljana:20251030T120000
DTSTAMP:20260422T171343Z
UID:bf-AFLABS-URNIK:srecanje:25353-2025-10-30 10:00:00+01:00
DESCRIPTION:Predmet: Rastline za ozelenjevanje II (KA032)\, laboratorijske
  vaje (LV)\, [:1]\nLetniki: Krajinska arhitektura 3. letnik (LAUN)\nIzvaja
 lci: Marko Dobrilovič\nProstor: Risalnica Krajinska arhitektura 4
END:VEVENT
BEGIN:VEVENT
SUMMARY:Rastline za ozelenjevanje II (KA032)\, laboratorijske vaje (LV)\, 
 [:1]
DTSTART;TZID=Europe/Ljubljana:20251106T100000
DTEND;TZID=Europe/Ljubljana:20251106T120000
DTSTAMP:20260422T171343Z
UID:bf-AFLABS-URNIK:srecanje:25353-2025-11-06 10:00:00+01:00
DESCRIPTION:Predmet: Rastline za ozelenjevanje II (KA032)\, laboratorijske
  vaje (LV)\, [:1]\nLetniki: Krajinska arhitektura 3. letnik (LAUN)\nIzvaja
 lci: Marko Dobrilovič\nProstor: Risalnica Krajinska arhitektura 4
END:VEVENT
BEGIN:VEVENT
SUMMARY:Rastline za ozelenjevanje II (KA032)\, laboratorijske vaje (LV)\, 
 [:1]
DTSTART;TZID=Europe/Ljubljana:20251113T100000
DTEND;TZID=Europe/Ljubljana:20251113T120000
DTSTAMP:20260422T171343Z
UID:bf-AFLABS-URNIK:srecanje:25353-2025-11-13 10:00:00+01:00
DESCRIPTION:Predmet: Rastline za ozelenjevanje II (KA032)\, laboratorijske
  vaje (LV)\, [:1]\nLetniki: Krajinska arhitektura 3. letnik (LAUN)\nIzvaja
 lci: Marko Dobrilovič\nProstor: Risalnica Krajinska arhitektura 4
END:VEVENT
BEGIN:VEVENT
SUMMARY:Rastline za ozelenjevanje II (KA032)\, laboratorijske vaje (LV)\, 
 [:2]
DTSTART;TZID=Europe/Ljubljana:20251002T120000
DTEND;TZID=Europe/Ljubljana:20251002T140000
DTSTAMP:20260422T171343Z
UID:bf-AFLABS-URNIK:srecanje:25354-2025-10-02 12:00:00+02:00
DESCRIPTION:Predmet: Rastline za ozelenjevanje II (KA032)\, laboratorijske
  vaje (LV)\, [:2]\nLetniki: Krajinska arhitektura 3. letnik (LAUN)\nIzvaja
 lci: Marko Dobrilovič\nProstor: Risalnica Krajinska arhitektura 4
END:VEVENT
BEGIN:VEVENT
SUMMARY:Rastline za ozelenjevanje II (KA032)\, laboratorijske vaje (LV)\, 
 [:2]
DTSTART;TZID=Europe/Ljubljana:20251009T120000
DTEND;TZID=Europe/Ljubljana:20251009T140000
DTSTAMP:20260422T171343Z
UID:bf-AFLABS-URNIK:srecanje:25354-2025-10-09 12:00:00+02:00
DESCRIPTION:Predmet: Rastline za ozelenjevanje II (KA032)\, laboratorijske
  vaje (LV)\, [:2]\nLetniki: Krajinska arhitektura 3. letnik (LAUN)\nIzvaja
 lci: Marko Dobrilovič\nProstor: Risalnica Krajinska arhitektura 4
END:VEVENT
BEGIN:VEVENT
SUMMARY:Rastline za ozelenjevanje II (KA032)\, laboratorijske vaje (LV)\, 
 [:2]
DTSTART;TZID=Europe/Ljubljana:20251016T120000
DTEND;TZID=Europe/Ljubljana:20251016T140000
DTSTAMP:20260422T171343Z
UID:bf-AFLABS-URNIK:srecanje:25354-2025-10-16 12:00:00+02:00
DESCRIPTION:Predmet: Rastline za ozelenjevanje II (KA032)\, laboratorijske
  vaje (LV)\, [:2]\nLetniki: Krajinska arhitektura 3. letnik (LAUN)\nIzvaja
 lci: Marko Dobrilovič\nProstor: Risalnica Krajinska arhitektura 4
END:VEVENT
BEGIN:VEVENT
SUMMARY:Rastline za ozelenjevanje II (KA032)\, laboratorijske vaje (LV)\, 
 [:2]
DTSTART;TZID=Europe/Ljubljana:20251023T120000
DTEND;TZID=Europe/Ljubljana:20251023T140000
DTSTAMP:20260422T171343Z
UID:bf-AFLABS-URNIK:srecanje:25354-2025-10-23 12:00:00+02:00
DESCRIPTION:Predmet: Rastline za ozelenjevanje II (KA032)\, laboratorijske
  vaje (LV)\, [:2]\nLetniki: Krajinska arhitektura 3. letnik (LAUN)\nIzvaja
 lci: Marko Dobrilovič\nProstor: Risalnica Krajinska arhitektura 4
END:VEVENT
BEGIN:VEVENT
SUMMARY:Rastline za ozelenjevanje II (KA032)\, laboratorijske vaje (LV)\, 
 [:2]
DTSTART;TZID=Europe/Ljubljana:20251030T120000
DTEND;TZID=Europe/Ljubljana:20251030T140000
DTSTAMP:20260422T171343Z
UID:bf-AFLABS-URNIK:srecanje:25354-2025-10-30 12:00:00+01:00
DESCRIPTION:Predmet: Rastline za ozelenjevanje II (KA032)\, laboratorijske
  vaje (LV)\, [:2]\nLetniki: Krajinska arhitektura 3. letnik (LAUN)\nIzvaja
 lci: Marko Dobrilovič\nProstor: Risalnica Krajinska arhitektura 4
END:VEVENT
BEGIN:VEVENT
SUMMARY:Rastline za ozelenjevanje II (KA032)\, laboratorijske vaje (LV)\, 
 [:2]
DTSTART;TZID=Europe/Ljubljana:20251106T120000
DTEND;TZID=Europe/Ljubljana:20251106T140000
DTSTAMP:20260422T171343Z
UID:bf-AFLABS-URNIK:srecanje:25354-2025-11-06 12:00:00+01:00
DESCRIPTION:Predmet: Rastline za ozelenjevanje II (KA032)\, laboratorijske
  vaje (LV)\, [:2]\nLetniki: Krajinska arhitektura 3. letnik (LAUN)\nIzvaja
 lci: Marko Dobrilovič\nProstor: Risalnica Krajinska arhitektura 4
END:VEVENT
BEGIN:VEVENT
SUMMARY:Rastline za ozelenjevanje II (KA032)\, laboratorijske vaje (LV)\, 
 [:2]
DTSTART;TZID=Europe/Ljubljana:20251113T120000
DTEND;TZID=Europe/Ljubljana:20251113T140000
DTSTAMP:20260422T171343Z
UID:bf-AFLABS-URNIK:srecanje:25354-2025-11-13 12:00:00+01:00
DESCRIPTION:Predmet: Rastline za ozelenjevanje II (KA032)\, laboratorijske
  vaje (LV)\, [:2]\nLetniki: Krajinska arhitektura 3. letnik (LAUN)\nIzvaja
 lci: Marko Dobrilovič\nProstor: Risalnica Krajinska arhitektura 4
END:VEVENT
BEGIN:VEVENT
SUMMARY:Rastline za ozelenjevanje (KA015)\, laboratorijske vaje (LV)\, [:1
 ]
DTSTART;TZID=Europe/Ljubljana:20251003T110000
DTEND;TZID=Europe/Ljubljana:20251003T123000
DTSTAMP:20260422T171343Z
UID:bf-AFLABS-URNIK:srecanje:25350-2025-10-03 11:00:00+02:00
DESCRIPTION:Predmet: Rastline za ozelenjevanje (KA015)\, laboratorijske va
 je (LV)\, [:1]\nLetniki: Krajinska arhitektura 2. letnik (LAUN)\nIzvajalci
 : Marko Dobrilovič\nProstor: Risalnica Krajinska arhitektura 1
END:VEVENT
BEGIN:VEVENT
SUMMARY:Rastline za ozelenjevanje (KA015)\, laboratorijske vaje (LV)\, [:1
 ]
DTSTART;TZID=Europe/Ljubljana:20251010T110000
DTEND;TZID=Europe/Ljubljana:20251010T123000
DTSTAMP:20260422T171343Z
UID:bf-AFLABS-URNIK:srecanje:25350-2025-10-10 11:00:00+02:00
DESCRIPTION:Predmet: Rastline za ozelenjevanje (KA015)\, laboratorijske va
 je (LV)\, [:1]\nLetniki: Krajinska arhitektura 2. letnik (LAUN)\nIzvajalci
 : Marko Dobrilovič\nProstor: Risalnica Krajinska arhitektura 1
END:VEVENT
BEGIN:VEVENT
SUMMARY:Rastline za ozelenjevanje (KA015)\, laboratorijske vaje (LV)\, [:1
 ]
DTSTART;TZID=Europe/Ljubljana:20251017T110000
DTEND;TZID=Europe/Ljubljana:20251017T123000
DTSTAMP:20260422T171343Z
UID:bf-AFLABS-URNIK:srecanje:25350-2025-10-17 11:00:00+02:00
DESCRIPTION:Predmet: Rastline za ozelenjevanje (KA015)\, laboratorijske va
 je (LV)\, [:1]\nLetniki: Krajinska arhitektura 2. letnik (LAUN)\nIzvajalci
 : Marko Dobrilovič\nProstor: Risalnica Krajinska arhitektura 1
END:VEVENT
BEGIN:VEVENT
SUMMARY:Rastline za ozelenjevanje (KA015)\, laboratorijske vaje (LV)\, [:1
 ]
DTSTART;TZID=Europe/Ljubljana:20251024T110000
DTEND;TZID=Europe/Ljubljana:20251024T123000
DTSTAMP:20260422T171343Z
UID:bf-AFLABS-URNIK:srecanje:25350-2025-10-24 11:00:00+02:00
DESCRIPTION:Predmet: Rastline za ozelenjevanje (KA015)\, laboratorijske va
 je (LV)\, [:1]\nLetniki: Krajinska arhitektura 2. letnik (LAUN)\nIzvajalci
 : Marko Dobrilovič\nProstor: Risalnica Krajinska arhitektura 1
END:VEVENT
BEGIN:VEVENT
SUMMARY:Rastline za ozelenjevanje (KA015)\, laboratorijske vaje (LV)\, [:1
 ]
DTSTART;TZID=Europe/Ljubljana:20251031T110000
DTEND;TZID=Europe/Ljubljana:20251031T123000
DTSTAMP:20260422T171343Z
UID:bf-AFLABS-URNIK:srecanje:25350-2025-10-31 11:00:00+01:00
DESCRIPTION:Predmet: Rastline za ozelenjevanje (KA015)\, laboratorijske va
 je (LV)\, [:1]\nLetniki: Krajinska arhitektura 2. letnik (LAUN)\nIzvajalci
 : Marko Dobrilovič\nProstor: Risalnica Krajinska arhitektura 1
END:VEVENT
BEGIN:VEVENT
SUMMARY:Rastline za ozelenjevanje (KA015)\, laboratorijske vaje (LV)\, [:1
 ]
DTSTART;TZID=Europe/Ljubljana:20251107T110000
DTEND;TZID=Europe/Ljubljana:20251107T123000
DTSTAMP:20260422T171343Z
UID:bf-AFLABS-URNIK:srecanje:25350-2025-11-07 11:00:00+01:00
DESCRIPTION:Predmet: Rastline za ozelenjevanje (KA015)\, laboratorijske va
 je (LV)\, [:1]\nLetniki: Krajinska arhitektura 2. letnik (LAUN)\nIzvajalci
 : Marko Dobrilovič\nProstor: Risalnica Krajinska arhitektura 1
END:VEVENT
BEGIN:VEVENT
SUMMARY:Rastline za ozelenjevanje (KA015)\, laboratorijske vaje (LV)\, [:1
 ]
DTSTART;TZID=Europe/Ljubljana:20251114T110000
DTEND;TZID=Europe/Ljubljana:20251114T123000
DTSTAMP:20260422T171343Z
UID:bf-AFLABS-URNIK:srecanje:25350-2025-11-14 11:00:00+01:00
DESCRIPTION:Predmet: Rastline za ozelenjevanje (KA015)\, laboratorijske va
 je (LV)\, [:1]\nLetniki: Krajinska arhitektura 2. letnik (LAUN)\nIzvajalci
 : Marko Dobrilovič\nProstor: Risalnica Krajinska arhitektura 1
END:VEVENT
BEGIN:VEVENT
SUMMARY:Rastline za ozelenjevanje (KA015)\, laboratorijske vaje (LV)\, [:2
 ]
DTSTART;TZID=Europe/Ljubljana:20251003T123000
DTEND;TZID=Europe/Ljubljana:20251003T140000
DTSTAMP:20260422T171343Z
UID:bf-AFLABS-URNIK:srecanje:25351-2025-10-03 12:30:00+02:00
DESCRIPTION:Predmet: Rastline za ozelenjevanje (KA015)\, laboratorijske va
 je (LV)\, [:2]\nLetniki: Krajinska arhitektura 2. letnik (LAUN)\nIzvajalci
 : Marko Dobrilovič\nProstor: Risalnica Krajinska arhitektura 1
END:VEVENT
BEGIN:VEVENT
SUMMARY:Rastline za ozelenjevanje (KA015)\, laboratorijske vaje (LV)\, [:2
 ]
DTSTART;TZID=Europe/Ljubljana:20251010T123000
DTEND;TZID=Europe/Ljubljana:20251010T140000
DTSTAMP:20260422T171343Z
UID:bf-AFLABS-URNIK:srecanje:25351-2025-10-10 12:30:00+02:00
DESCRIPTION:Predmet: Rastline za ozelenjevanje (KA015)\, laboratorijske va
 je (LV)\, [:2]\nLetniki: Krajinska arhitektura 2. letnik (LAUN)\nIzvajalci
 : Marko Dobrilovič\nProstor: Risalnica Krajinska arhitektura 1
END:VEVENT
BEGIN:VEVENT
SUMMARY:Rastline za ozelenjevanje (KA015)\, laboratorijske vaje (LV)\, [:2
 ]
DTSTART;TZID=Europe/Ljubljana:20251017T123000
DTEND;TZID=Europe/Ljubljana:20251017T140000
DTSTAMP:20260422T171343Z
UID:bf-AFLABS-URNIK:srecanje:25351-2025-10-17 12:30:00+02:00
DESCRIPTION:Predmet: Rastline za ozelenjevanje (KA015)\, laboratorijske va
 je (LV)\, [:2]\nLetniki: Krajinska arhitektura 2. letnik (LAUN)\nIzvajalci
 : Marko Dobrilovič\nProstor: Risalnica Krajinska arhitektura 1
END:VEVENT
BEGIN:VEVENT
SUMMARY:Rastline za ozelenjevanje (KA015)\, laboratorijske vaje (LV)\, [:2
 ]
DTSTART;TZID=Europe/Ljubljana:20251024T123000
DTEND;TZID=Europe/Ljubljana:20251024T140000
DTSTAMP:20260422T171343Z
UID:bf-AFLABS-URNIK:srecanje:25351-2025-10-24 12:30:00+02:00
DESCRIPTION:Predmet: Rastline za ozelenjevanje (KA015)\, laboratorijske va
 je (LV)\, [:2]\nLetniki: Krajinska arhitektura 2. letnik (LAUN)\nIzvajalci
 : Marko Dobrilovič\nProstor: Risalnica Krajinska arhitektura 1
END:VEVENT
BEGIN:VEVENT
SUMMARY:Rastline za ozelenjevanje (KA015)\, laboratorijske vaje (LV)\, [:2
 ]
DTSTART;TZID=Europe/Ljubljana:20251031T123000
DTEND;TZID=Europe/Ljubljana:20251031T140000
DTSTAMP:20260422T171343Z
UID:bf-AFLABS-URNIK:srecanje:25351-2025-10-31 12:30:00+01:00
DESCRIPTION:Predmet: Rastline za ozelenjevanje (KA015)\, laboratorijske va
 je (LV)\, [:2]\nLetniki: Krajinska arhitektura 2. letnik (LAUN)\nIzvajalci
 : Marko Dobrilovič\nProstor: Risalnica Krajinska arhitektura 1
END:VEVENT
BEGIN:VEVENT
SUMMARY:Rastline za ozelenjevanje (KA015)\, laboratorijske vaje (LV)\, [:2
 ]
DTSTART;TZID=Europe/Ljubljana:20251107T123000
DTEND;TZID=Europe/Ljubljana:20251107T140000
DTSTAMP:20260422T171343Z
UID:bf-AFLABS-URNIK:srecanje:25351-2025-11-07 12:30:00+01:00
DESCRIPTION:Predmet: Rastline za ozelenjevanje (KA015)\, laboratorijske va
 je (LV)\, [:2]\nLetniki: Krajinska arhitektura 2. letnik (LAUN)\nIzvajalci
 : Marko Dobrilovič\nProstor: Risalnica Krajinska arhitektura 1
END:VEVENT
BEGIN:VEVENT
SUMMARY:Rastline za ozelenjevanje (KA015)\, laboratorijske vaje (LV)\, [:2
 ]
DTSTART;TZID=Europe/Ljubljana:20251114T123000
DTEND;TZID=Europe/Ljubljana:20251114T140000
DTSTAMP:20260422T171343Z
UID:bf-AFLABS-URNIK:srecanje:25351-2025-11-14 12:30:00+01:00
DESCRIPTION:Predmet: Rastline za ozelenjevanje (KA015)\, laboratorijske va
 je (LV)\, [:2]\nLetniki: Krajinska arhitektura 2. letnik (LAUN)\nIzvajalci
 : Marko Dobrilovič\nProstor: Risalnica Krajinska arhitektura 1
END:VEVENT
BEGIN:VEVENT
SUMMARY:Sistemi ozelenjevanja (KA024)\, laboratorijske vaje (LV)\, [:1]
DTSTART;TZID=Europe/Ljubljana:20251006T120000
DTEND;TZID=Europe/Ljubljana:20251006T150000
DTSTAMP:20260422T171343Z
UID:bf-AFLABS-URNIK:srecanje:25400-2025-10-06 12:00:00+02:00
DESCRIPTION:Predmet: Sistemi ozelenjevanja (KA024)\, laboratorijske vaje (
 LV)\, [:1]\nLetniki: Krajinska arhitektura 3. letnik (LAUN)\nIzvajalci: Ma
 rko Dobrilovič\nProstor: Risalnica Krajinska arhitektura 4
END:VEVENT
BEGIN:VEVENT
SUMMARY:Sistemi ozelenjevanja (KA024)\, laboratorijske vaje (LV)\, [:1]
DTSTART;TZID=Europe/Ljubljana:20251013T120000
DTEND;TZID=Europe/Ljubljana:20251013T150000
DTSTAMP:20260422T171343Z
UID:bf-AFLABS-URNIK:srecanje:25400-2025-10-13 12:00:00+02:00
DESCRIPTION:Predmet: Sistemi ozelenjevanja (KA024)\, laboratorijske vaje (
 LV)\, [:1]\nLetniki: Krajinska arhitektura 3. letnik (LAUN)\nIzvajalci: Ma
 rko Dobrilovič\nProstor: Risalnica Krajinska arhitektura 4
END:VEVENT
BEGIN:VEVENT
SUMMARY:Sistemi ozelenjevanja (KA024)\, laboratorijske vaje (LV)\, [:1]
DTSTART;TZID=Europe/Ljubljana:20251020T120000
DTEND;TZID=Europe/Ljubljana:20251020T150000
DTSTAMP:20260422T171343Z
UID:bf-AFLABS-URNIK:srecanje:25400-2025-10-20 12:00:00+02:00
DESCRIPTION:Predmet: Sistemi ozelenjevanja (KA024)\, laboratorijske vaje (
 LV)\, [:1]\nLetniki: Krajinska arhitektura 3. letnik (LAUN)\nIzvajalci: Ma
 rko Dobrilovič\nProstor: Risalnica Krajinska arhitektura 4
END:VEVENT
BEGIN:VEVENT
SUMMARY:Sistemi ozelenjevanja (KA024)\, laboratorijske vaje (LV)\, [:1]
DTSTART;TZID=Europe/Ljubljana:20251027T120000
DTEND;TZID=Europe/Ljubljana:20251027T150000
DTSTAMP:20260422T171343Z
UID:bf-AFLABS-URNIK:srecanje:25400-2025-10-27 12:00:00+01:00
DESCRIPTION:Predmet: Sistemi ozelenjevanja (KA024)\, laboratorijske vaje (
 LV)\, [:1]\nLetniki: Krajinska arhitektura 3. letnik (LAUN)\nIzvajalci: Ma
 rko Dobrilovič\nProstor: Risalnica Krajinska arhitektura 4
END:VEVENT
BEGIN:VEVENT
SUMMARY:Sistemi ozelenjevanja (KA024)\, laboratorijske vaje (LV)\, [:1]
DTSTART;TZID=Europe/Ljubljana:20251103T120000
DTEND;TZID=Europe/Ljubljana:20251103T150000
DTSTAMP:20260422T171343Z
UID:bf-AFLABS-URNIK:srecanje:25400-2025-11-03 12:00:00+01:00
DESCRIPTION:Predmet: Sistemi ozelenjevanja (KA024)\, laboratorijske vaje (
 LV)\, [:1]\nLetniki: Krajinska arhitektura 3. letnik (LAUN)\nIzvajalci: Ma
 rko Dobrilovič\nProstor: Risalnica Krajinska arhitektura 4
END:VEVENT
BEGIN:VEVENT
SUMMARY:Sistemi ozelenjevanja (KA024)\, laboratorijske vaje (LV)\, [:1]
DTSTART;TZID=Europe/Ljubljana:20251110T120000
DTEND;TZID=Europe/Ljubljana:20251110T150000
DTSTAMP:20260422T171343Z
UID:bf-AFLABS-URNIK:srecanje:25400-2025-11-10 12:00:00+01:00
DESCRIPTION:Predmet: Sistemi ozelenjevanja (KA024)\, laboratorijske vaje (
 LV)\, [:1]\nLetniki: Krajinska arhitektura 3. letnik (LAUN)\nIzvajalci: Ma
 rko Dobrilovič\nProstor: Risalnica Krajinska arhitektura 4
END:VEVENT
BEGIN:VEVENT
SUMMARY:Krajinska in gradbena tehnika (KA013)\, laboratorijske vaje (LV)
DTSTART;TZID=Europe/Ljubljana:20251007T120000
DTEND;TZID=Europe/Ljubljana:20251007T150000
DTSTAMP:20260422T171343Z
UID:bf-AFLABS-URNIK:srecanje:25043-2025-10-07 12:00:00+02:00
DESCRIPTION:Predmet: Krajinska in gradbena tehnika (KA013)\, laboratorijsk
 e vaje (LV)\nLetniki: Krajinska arhitektura 2. letnik (LAUN)\nIzvajalci: M
 arko Dobrilovič\nProstor: Risalnica Krajinska arhitektura 1
END:VEVENT
BEGIN:VEVENT
SUMMARY:Krajinska in gradbena tehnika (KA013)\, laboratorijske vaje (LV)
DTSTART;TZID=Europe/Ljubljana:20251014T120000
DTEND;TZID=Europe/Ljubljana:20251014T150000
DTSTAMP:20260422T171343Z
UID:bf-AFLABS-URNIK:srecanje:25043-2025-10-14 12:00:00+02:00
DESCRIPTION:Predmet: Krajinska in gradbena tehnika (KA013)\, laboratorijsk
 e vaje (LV)\nLetniki: Krajinska arhitektura 2. letnik (LAUN)\nIzvajalci: M
 arko Dobrilovič\nProstor: Risalnica Krajinska arhitektura 1
END:VEVENT
BEGIN:VEVENT
SUMMARY:Krajinska in gradbena tehnika (KA013)\, laboratorijske vaje (LV)
DTSTART;TZID=Europe/Ljubljana:20251021T120000
DTEND;TZID=Europe/Ljubljana:20251021T150000
DTSTAMP:20260422T171343Z
UID:bf-AFLABS-URNIK:srecanje:25043-2025-10-21 12:00:00+02:00
DESCRIPTION:Predmet: Krajinska in gradbena tehnika (KA013)\, laboratorijsk
 e vaje (LV)\nLetniki: Krajinska arhitektura 2. letnik (LAUN)\nIzvajalci: M
 arko Dobrilovič\nProstor: Risalnica Krajinska arhitektura 1
END:VEVENT
BEGIN:VEVENT
SUMMARY:Krajinska in gradbena tehnika (KA013)\, laboratorijske vaje (LV)
DTSTART;TZID=Europe/Ljubljana:20251028T120000
DTEND;TZID=Europe/Ljubljana:20251028T150000
DTSTAMP:20260422T171343Z
UID:bf-AFLABS-URNIK:srecanje:25043-2025-10-28 12:00:00+01:00
DESCRIPTION:Predmet: Krajinska in gradbena tehnika (KA013)\, laboratorijsk
 e vaje (LV)\nLetniki: Krajinska arhitektura 2. letnik (LAUN)\nIzvajalci: M
 arko Dobrilovič\nProstor: Risalnica Krajinska arhitektura 1
END:VEVENT
BEGIN:VEVENT
SUMMARY:Krajinska in gradbena tehnika (KA013)\, laboratorijske vaje (LV)
DTSTART;TZID=Europe/Ljubljana:20251104T120000
DTEND;TZID=Europe/Ljubljana:20251104T150000
DTSTAMP:20260422T171343Z
UID:bf-AFLABS-URNIK:srecanje:25043-2025-11-04 12:00:00+01:00
DESCRIPTION:Predmet: Krajinska in gradbena tehnika (KA013)\, laboratorijsk
 e vaje (LV)\nLetniki: Krajinska arhitektura 2. letnik (LAUN)\nIzvajalci: M
 arko Dobrilovič\nProstor: Risalnica Krajinska arhitektura 1
END:VEVENT
BEGIN:VEVENT
SUMMARY:Krajinska in gradbena tehnika (KA013)\, laboratorijske vaje (LV)
DTSTART;TZID=Europe/Ljubljana:20251111T120000
DTEND;TZID=Europe/Ljubljana:20251111T150000
DTSTAMP:20260422T171343Z
UID:bf-AFLABS-URNIK:srecanje:25043-2025-11-11 12:00:00+01:00
DESCRIPTION:Predmet: Krajinska in gradbena tehnika (KA013)\, laboratorijsk
 e vaje (LV)\nLetniki: Krajinska arhitektura 2. letnik (LAUN)\nIzvajalci: M
 arko Dobrilovič\nProstor: Risalnica Krajinska arhitektura 1
END:VEVENT
END:VCALENDAR
