BEGIN:VCALENDAR
VERSION:2.0
PRODID:-//AFLabs urnik izvoz - bf//aflabs.si//SI
NAME:UL BF Urnik
X-WR-CALNAME:UL BF Urnik
DTSTAMP:20260425T193445Z
REFRESH-INTERVAL:PT1H
SOURCE:https://urniki.bf.uni-lj.si/en/teacher/16/?day=2025-09-29&export=1
URL:https://urniki.bf.uni-lj.si/en/teacher/16/?day=2025-09-29&export=1
X-PUBLISHED-TTL:PT1H
X-WR-TIMEZONE:Europe/Ljubljana
BEGIN:VTIMEZONE
TZID:Europe/Ljubljana
BEGIN:DAYLIGHT
DTSTART:20260329T020000
RDATE:20260329T020000
RDATE:20270328T020000
TZNAME:CEST
TZOFFSETFROM:+0100
TZOFFSETTO:+0200
END:DAYLIGHT
BEGIN:STANDARD
DTSTART:20261025T030000
RDATE:20261025T030000
RDATE:20271031T030000
TZNAME:CET
TZOFFSETFROM:+0200
TZOFFSETTO:+0100
END:STANDARD
END:VTIMEZONE
BEGIN:VEVENT
SUMMARY:Gozdni proizvodi (UN) (GG013)\, predavanja (P)
DTSTART;TZID=Europe/Ljubljana:20251001T080000
DTEND;TZID=Europe/Ljubljana:20251001T110000
DTSTAMP:20260425T193445Z
UID:bf-AFLABS-URNIK:srecanje:24904-2025-10-01 08:00:00+02:00
DESCRIPTION:Predmet: Gozdni proizvodi (UN) (GG013)\, predavanja (P)\nLetni
 ki: Gozdarstvo in obnovljivi gozdni viri 2. letnik (FOUN)\nIzvajalci: Mate
 vž Mihelič\nProstor: Predavalnica Gozdarstvo G2
END:VEVENT
BEGIN:VEVENT
SUMMARY:Gozdni proizvodi (UN) (GG013)\, predavanja (P)
DTSTART;TZID=Europe/Ljubljana:20251008T080000
DTEND;TZID=Europe/Ljubljana:20251008T110000
DTSTAMP:20260425T193445Z
UID:bf-AFLABS-URNIK:srecanje:24904-2025-10-08 08:00:00+02:00
DESCRIPTION:Predmet: Gozdni proizvodi (UN) (GG013)\, predavanja (P)\nLetni
 ki: Gozdarstvo in obnovljivi gozdni viri 2. letnik (FOUN)\nIzvajalci: Mate
 vž Mihelič\nProstor: Predavalnica Gozdarstvo G2
END:VEVENT
BEGIN:VEVENT
SUMMARY:Gozdni proizvodi (UN) (GG013)\, predavanja (P)
DTSTART;TZID=Europe/Ljubljana:20251015T080000
DTEND;TZID=Europe/Ljubljana:20251015T110000
DTSTAMP:20260425T193445Z
UID:bf-AFLABS-URNIK:srecanje:24904-2025-10-15 08:00:00+02:00
DESCRIPTION:Predmet: Gozdni proizvodi (UN) (GG013)\, predavanja (P)\nLetni
 ki: Gozdarstvo in obnovljivi gozdni viri 2. letnik (FOUN)\nIzvajalci: Mate
 vž Mihelič\nProstor: Predavalnica Gozdarstvo G2
END:VEVENT
BEGIN:VEVENT
SUMMARY:Gozdni proizvodi (UN) (GG013)\, predavanja (P)
DTSTART;TZID=Europe/Ljubljana:20251022T080000
DTEND;TZID=Europe/Ljubljana:20251022T110000
DTSTAMP:20260425T193445Z
UID:bf-AFLABS-URNIK:srecanje:24904-2025-10-22 08:00:00+02:00
DESCRIPTION:Predmet: Gozdni proizvodi (UN) (GG013)\, predavanja (P)\nLetni
 ki: Gozdarstvo in obnovljivi gozdni viri 2. letnik (FOUN)\nIzvajalci: Mate
 vž Mihelič\nProstor: Predavalnica Gozdarstvo G2
END:VEVENT
BEGIN:VEVENT
SUMMARY:Gozdni proizvodi (UN) (GG013)\, predavanja (P)
DTSTART;TZID=Europe/Ljubljana:20251029T080000
DTEND;TZID=Europe/Ljubljana:20251029T110000
DTSTAMP:20260425T193445Z
UID:bf-AFLABS-URNIK:srecanje:24904-2025-10-29 08:00:00+01:00
DESCRIPTION:Predmet: Gozdni proizvodi (UN) (GG013)\, predavanja (P)\nLetni
 ki: Gozdarstvo in obnovljivi gozdni viri 2. letnik (FOUN)\nIzvajalci: Mate
 vž Mihelič\nProstor: Predavalnica Gozdarstvo G2
END:VEVENT
BEGIN:VEVENT
SUMMARY:Gozdni proizvodi (VS) (GO006)\, predavanja (P)
DTSTART;TZID=Europe/Ljubljana:20251001T120000
DTEND;TZID=Europe/Ljubljana:20251001T160000
DTSTAMP:20260425T193445Z
UID:bf-AFLABS-URNIK:srecanje:29409-2025-10-01 12:00:00+02:00
DESCRIPTION:Predmet: Gozdni proizvodi (VS) (GO006)\, predavanja (P)\nLetni
 ki: Gozdarstvo 1. letnik (FOPS)\nIzvajalci: Matevž Mihelič\nProstor: Pre
 davalnica Gozdarstvo G6
END:VEVENT
BEGIN:VEVENT
SUMMARY:Pridobivanje lesa (VS) (GO013)\, predavanja (P)
DTSTART;TZID=Europe/Ljubljana:20251002T080000
DTEND;TZID=Europe/Ljubljana:20251002T110000
DTSTAMP:20260425T193445Z
UID:bf-AFLABS-URNIK:srecanje:29340-2025-10-02 08:00:00+02:00
DESCRIPTION:Predmet: Pridobivanje lesa (VS) (GO013)\, predavanja (P)\nLetn
 iki: Gozdarstvo 2. letnik (FOPS)\nIzvajalci: Matevž Mihelič\nProstor: Pr
 edavalnica Gozdarstvo G10\, čitalnica
END:VEVENT
BEGIN:VEVENT
SUMMARY:Gozdni proizvodi (VS) (GO006)\, predavanja (P)
DTSTART;TZID=Europe/Ljubljana:20251003T080000
DTEND;TZID=Europe/Ljubljana:20251003T120000
DTSTAMP:20260425T193445Z
UID:bf-AFLABS-URNIK:srecanje:24908-2025-10-03 08:00:00+02:00
DESCRIPTION:Predmet: Gozdni proizvodi (VS) (GO006)\, predavanja (P)\nLetni
 ki: Gozdarstvo 1. letnik (FOPS)\nIzvajalci: Matevž Mihelič\nProstor: Pre
 davalnica Gozdarstvo G6
END:VEVENT
BEGIN:VEVENT
SUMMARY:Gozdni proizvodi (UN) (GG013)\, predavanja (P)
DTSTART;TZID=Europe/Ljubljana:20251003T120000
DTEND;TZID=Europe/Ljubljana:20251003T160000
DTSTAMP:20260425T193445Z
UID:bf-AFLABS-URNIK:srecanje:29270-2025-10-03 12:00:00+02:00
DESCRIPTION:Predmet: Gozdni proizvodi (UN) (GG013)\, predavanja (P)\nLetni
 ki: Gozdarstvo in obnovljivi gozdni viri 2. letnik (FOUN)\nIzvajalci: Mate
 vž Mihelič\nProstor: Predavalnica Gozdarstvo G9
END:VEVENT
BEGIN:VEVENT
SUMMARY:Gozdni proizvodi (VS) (GO006)\, predavanja (P)
DTSTART;TZID=Europe/Ljubljana:20251006T080000
DTEND;TZID=Europe/Ljubljana:20251006T110000
DTSTAMP:20260425T193445Z
UID:bf-AFLABS-URNIK:premaknjeno-srecanje:160516
ATTENDEE:Gozdarstvo 1. letnik (FOPS)
CATEGORIES:Entry,Special
COLOR:forestgreen
DESCRIPTION:Predmet: Gozdni proizvodi (VS) (GO006)\, predavanja (P)\nLetni
 ki: Gozdarstvo 1. letnik (FOPS)\nIzvajalci: Matevž Mihelič\nProstor: Pre
 davalnica Gozdarstvo G6
LOCATION:Department of forestry\, Predavalnica Gozdarstvo G6
ORGANIZER:Matevž Mihelič
RELATED-TO:bf-AFLABS-URNIK:srecanje:24906
X-WR-TIMEZONE:Europe/Ljubljana
END:VEVENT
BEGIN:VEVENT
SUMMARY:Gozdni proizvodi (VS) (GO006)\, predavanja (P)
DTSTART;TZID=Europe/Ljubljana:20251020T080000
DTEND;TZID=Europe/Ljubljana:20251020T110000
DTSTAMP:20260425T193445Z
UID:bf-AFLABS-URNIK:premaknjeno-srecanje:160518
ATTENDEE:Gozdarstvo 1. letnik (FOPS)
CATEGORIES:Entry,Special
COLOR:forestgreen
DESCRIPTION:Predmet: Gozdni proizvodi (VS) (GO006)\, predavanja (P)\nLetni
 ki: Gozdarstvo 1. letnik (FOPS)\nIzvajalci: Matevž Mihelič\nProstor: Pre
 davalnica Gozdarstvo G6
LOCATION:Department of forestry\, Predavalnica Gozdarstvo G6
ORGANIZER:Matevž Mihelič
RELATED-TO:bf-AFLABS-URNIK:srecanje:24906
X-WR-TIMEZONE:Europe/Ljubljana
END:VEVENT
BEGIN:VEVENT
SUMMARY:Gozdni proizvodi (VS) (GO006)\, predavanja (P)
DTSTART;TZID=Europe/Ljubljana:20251013T120000
DTEND;TZID=Europe/Ljubljana:20251013T150000
DTSTAMP:20260425T193445Z
UID:bf-AFLABS-URNIK:srecanje:24906-2025-10-13 12:00:00+02:00
DESCRIPTION:Predmet: Gozdni proizvodi (VS) (GO006)\, predavanja (P)\nLetni
 ki: Gozdarstvo 1. letnik (FOPS)\nIzvajalci: Matevž Mihelič\nProstor: Pre
 davalnica Gozdarstvo G6
END:VEVENT
BEGIN:VEVENT
SUMMARY:Gozdni proizvodi (VS) (GO006)\, predavanja (P)
DTSTART;TZID=Europe/Ljubljana:20251027T120000
DTEND;TZID=Europe/Ljubljana:20251027T150000
DTSTAMP:20260425T193445Z
UID:bf-AFLABS-URNIK:srecanje:24906-2025-10-27 12:00:00+01:00
DESCRIPTION:Predmet: Gozdni proizvodi (VS) (GO006)\, predavanja (P)\nLetni
 ki: Gozdarstvo 1. letnik (FOPS)\nIzvajalci: Matevž Mihelič\nProstor: Pre
 davalnica Gozdarstvo G6
END:VEVENT
BEGIN:VEVENT
SUMMARY:Gozdni proizvodi (VS) (GO006)\, predavanja (P)
DTSTART;TZID=Europe/Ljubljana:20251103T120000
DTEND;TZID=Europe/Ljubljana:20251103T150000
DTSTAMP:20260425T193445Z
UID:bf-AFLABS-URNIK:srecanje:24906-2025-11-03 12:00:00+01:00
DESCRIPTION:Predmet: Gozdni proizvodi (VS) (GO006)\, predavanja (P)\nLetni
 ki: Gozdarstvo 1. letnik (FOPS)\nIzvajalci: Matevž Mihelič\nProstor: Pre
 davalnica Gozdarstvo G6
END:VEVENT
BEGIN:VEVENT
SUMMARY:Gozdni proizvodi (UN) (GG013)\, predavanja (P)
DTSTART;TZID=Europe/Ljubljana:20251006T120000
DTEND;TZID=Europe/Ljubljana:20251006T150000
DTSTAMP:20260425T193445Z
UID:bf-AFLABS-URNIK:srecanje:29271-2025-10-06 12:00:00+02:00
DESCRIPTION:Predmet: Gozdni proizvodi (UN) (GG013)\, predavanja (P)\nLetni
 ki: Gozdarstvo in obnovljivi gozdni viri 2. letnik (FOUN)\nIzvajalci: Mate
 vž Mihelič\nProstor: Predavalnica Gozdarstvo G9
END:VEVENT
BEGIN:VEVENT
SUMMARY:Gozdni proizvodi (VS) (GO006)\, predavanja (P)
DTSTART;TZID=Europe/Ljubljana:20251007T110000
DTEND;TZID=Europe/Ljubljana:20251007T140000
DTSTAMP:20260425T193445Z
UID:bf-AFLABS-URNIK:srecanje:29272-2025-10-07 11:00:00+02:00
DESCRIPTION:Predmet: Gozdni proizvodi (VS) (GO006)\, predavanja (P)\nLetni
 ki: Gozdarstvo 1. letnik (FOPS)\nIzvajalci: Matevž Mihelič\nProstor: Pre
 davalnica Gozdarstvo G6
END:VEVENT
BEGIN:VEVENT
SUMMARY:Gozdni proizvodi (UN) (GG013)\, predavanja (P)
DTSTART;TZID=Europe/Ljubljana:20251007T140000
DTEND;TZID=Europe/Ljubljana:20251007T160000
DTSTAMP:20260425T193445Z
UID:bf-AFLABS-URNIK:premaknjeno-srecanje:197941
ATTENDEE:Gozdarstvo in obnovljivi gozdni viri 2. letnik (FOUN)
CATEGORIES:Entry,Special
COLOR:forestgreen
DESCRIPTION:Predmet: Gozdni proizvodi (UN) (GG013)\, predavanja (P)\nLetni
 ki: Gozdarstvo in obnovljivi gozdni viri 2. letnik (FOUN)\nIzvajalci: Mate
 vž Mihelič\nProstor: Predavalnica Gozdarstvo G2
LOCATION:Department of forestry\, Predavalnica Gozdarstvo G2
ORGANIZER:Matevž Mihelič
RELATED-TO:bf-AFLABS-URNIK:srecanje:24903
X-WR-TIMEZONE:Europe/Ljubljana
END:VEVENT
BEGIN:VEVENT
SUMMARY:Gozdni proizvodi (UN) (GG013)\, predavanja (P)
DTSTART;TZID=Europe/Ljubljana:20251014T130000
DTEND;TZID=Europe/Ljubljana:20251014T150000
DTSTAMP:20260425T193445Z
UID:bf-AFLABS-URNIK:srecanje:24903-2025-10-14 13:00:00+02:00
DESCRIPTION:Predmet: Gozdni proizvodi (UN) (GG013)\, predavanja (P)\nLetni
 ki: Gozdarstvo in obnovljivi gozdni viri 2. letnik (FOUN)\nIzvajalci: Mate
 vž Mihelič\nProstor: Predavalnica Gozdarstvo G2
END:VEVENT
BEGIN:VEVENT
SUMMARY:Gozdni proizvodi (UN) (GG013)\, predavanja (P)
DTSTART;TZID=Europe/Ljubljana:20251021T130000
DTEND;TZID=Europe/Ljubljana:20251021T150000
DTSTAMP:20260425T193445Z
UID:bf-AFLABS-URNIK:srecanje:24903-2025-10-21 13:00:00+02:00
DESCRIPTION:Predmet: Gozdni proizvodi (UN) (GG013)\, predavanja (P)\nLetni
 ki: Gozdarstvo in obnovljivi gozdni viri 2. letnik (FOUN)\nIzvajalci: Mate
 vž Mihelič\nProstor: Predavalnica Gozdarstvo G2
END:VEVENT
BEGIN:VEVENT
SUMMARY:Pridobivanje lesa (VS) (GO013)\, predavanja (P)
DTSTART;TZID=Europe/Ljubljana:20251015T110000
DTEND;TZID=Europe/Ljubljana:20251015T130000
DTSTAMP:20260425T193445Z
UID:bf-AFLABS-URNIK:srecanje:25312-2025-10-15 11:00:00+02:00
DESCRIPTION:Predmet: Pridobivanje lesa (VS) (GO013)\, predavanja (P)\nLetn
 iki: Gozdarstvo 2. letnik (FOPS)\nIzvajalci: Matevž Mihelič\nProstor: Pr
 edavalnica Gozdarstvo G9
END:VEVENT
BEGIN:VEVENT
SUMMARY:Pridobivanje lesa (VS) (GO013)\, predavanja (P)
DTSTART;TZID=Europe/Ljubljana:20251022T110000
DTEND;TZID=Europe/Ljubljana:20251022T130000
DTSTAMP:20260425T193445Z
UID:bf-AFLABS-URNIK:srecanje:25312-2025-10-22 11:00:00+02:00
DESCRIPTION:Predmet: Pridobivanje lesa (VS) (GO013)\, predavanja (P)\nLetn
 iki: Gozdarstvo 2. letnik (FOPS)\nIzvajalci: Matevž Mihelič\nProstor: Pr
 edavalnica Gozdarstvo G9
END:VEVENT
BEGIN:VEVENT
SUMMARY:Pridobivanje lesa (VS) (GO013)\, predavanja (P)
DTSTART;TZID=Europe/Ljubljana:20251029T110000
DTEND;TZID=Europe/Ljubljana:20251029T130000
DTSTAMP:20260425T193445Z
UID:bf-AFLABS-URNIK:srecanje:25312-2025-10-29 11:00:00+01:00
DESCRIPTION:Predmet: Pridobivanje lesa (VS) (GO013)\, predavanja (P)\nLetn
 iki: Gozdarstvo 2. letnik (FOPS)\nIzvajalci: Matevž Mihelič\nProstor: Pr
 edavalnica Gozdarstvo G9
END:VEVENT
BEGIN:VEVENT
SUMMARY:Kolokvij
DTSTART;TZID=Europe/Ljubljana:20251013T120000
DTEND;TZID=Europe/Ljubljana:20251013T140000
DTSTAMP:20260425T193445Z
UID:bf-AFLABS-URNIK:rezervacija:23963
ATTENDEE:Gozdarstvo 1. letnik (FOPS)
ATTENDEE:Gozdarstvo in obnovljivi gozdni viri 2. letnik (FOUN)
CATEGORIES:Reservation
COLOR:royalblue
DESCRIPTION:Predmeti: Gozdni proizvodi (UN) (GG013)\, Gozdni proizvodi (VS
 ) (GO006)\nLetniki: Gozdarstvo in obnovljivi gozdni viri 2. letnik (FOUN)\
 , Gozdarstvo 1. letnik (FOPS)\nIzvajalci: Matevž Mihelič\nProstori: Pred
 avalnica Gozdarstvo G10\, čitalnica
LOCATION:Department of forestry\, Predavalnica Gozdarstvo G10\, čitalnica
ORGANIZER:Matevž Mihelič
X-WR-TIMEZONE:Europe/Ljubljana
END:VEVENT
BEGIN:VEVENT
SUMMARY:Gozdni proizvodi Kolokvij
DTSTART;TZID=Europe/Ljubljana:20251013T140000
DTEND;TZID=Europe/Ljubljana:20251013T150000
DTSTAMP:20260425T193445Z
UID:bf-AFLABS-URNIK:rezervacija:24176
ATTENDEE:Gozdarstvo in obnovljivi gozdni viri 2. letnik (FOUN)
CATEGORIES:Reservation
COLOR:royalblue
DESCRIPTION:Predmeti: Gozdni proizvodi (UN) (GG013)\nLetniki: Gozdarstvo i
 n obnovljivi gozdni viri 2. letnik (FOUN)\nIzvajalci: Matevž Mihelič\nPr
 ostori: Računalnica Gozdarstvo G8
LOCATION:Department of forestry\, Računalnica Gozdarstvo G8
ORGANIZER:Matevž Mihelič
X-WR-TIMEZONE:Europe/Ljubljana
END:VEVENT
BEGIN:VEVENT
SUMMARY:Kolokvij
DTSTART;TZID=Europe/Ljubljana:20251020T080000
DTEND;TZID=Europe/Ljubljana:20251020T090000
DTSTAMP:20260425T193445Z
UID:bf-AFLABS-URNIK:rezervacija:24265
ATTENDEE:Gozdarstvo 1. letnik (FOPS)
CATEGORIES:Reservation
COLOR:royalblue
DESCRIPTION:Predmeti: Gozdni proizvodi (VS) (GO006)\nLetniki: Gozdarstvo 1
 . letnik (FOPS)\nIzvajalci: Matevž Mihelič\, Zala Uhan\nProstori: Račun
 alnica Gozdarstvo G8
LOCATION:Department of forestry\, Računalnica Gozdarstvo G8
ORGANIZER:Matevž Mihelič, Zala Uhan
X-WR-TIMEZONE:Europe/Ljubljana
END:VEVENT
END:VCALENDAR
