BEGIN:VCALENDAR
VERSION:2.0
PRODID:-//AFLabs urnik izvoz - bf//aflabs.si//SI
NAME:UL BF Urnik
X-WR-CALNAME:UL BF Urnik
DTSTAMP:20260421T020142Z
REFRESH-INTERVAL:PT1H
SOURCE:https://urniki.bf.uni-lj.si/en/teacher/166/?day=2025-12-01&export=1
URL:https://urniki.bf.uni-lj.si/en/teacher/166/?day=2025-12-01&export=1
X-PUBLISHED-TTL:PT1H
X-WR-TIMEZONE:Europe/Ljubljana
BEGIN:VTIMEZONE
TZID:Europe/Ljubljana
BEGIN:DAYLIGHT
DTSTART:20260329T020000
RDATE:20260329T020000
RDATE:20270328T020000
TZNAME:CEST
TZOFFSETFROM:+0100
TZOFFSETTO:+0200
END:DAYLIGHT
BEGIN:STANDARD
DTSTART:20261025T030000
RDATE:20261025T030000
RDATE:20271031T030000
TZNAME:CET
TZOFFSETFROM:+0200
TZOFFSETTO:+0100
END:STANDARD
END:VTIMEZONE
BEGIN:VEVENT
SUMMARY:Geodezija s kartografijo (KA007)\, laboratorijske vaje (LV)
DTSTART;TZID=Europe/Ljubljana:20251124T110000
DTEND;TZID=Europe/Ljubljana:20251124T140000
DTSTAMP:20260421T020142Z
UID:bf-AFLABS-URNIK:srecanje:26010-2025-11-24 11:00:00+01:00
DESCRIPTION:Predmet: Geodezija s kartografijo (KA007)\, laboratorijske vaj
 e (LV)\nLetniki: Krajinska arhitektura 1. letnik (LAUN)\nIzvajalci: Klemen
  Kozmus Trajkovski\nProstor: Risalnica Krajinska arhitektura 5
END:VEVENT
BEGIN:VEVENT
SUMMARY:Geodezija s kartografijo (KA007)\, laboratorijske vaje (LV)
DTSTART;TZID=Europe/Ljubljana:20251201T110000
DTEND;TZID=Europe/Ljubljana:20251201T140000
DTSTAMP:20260421T020142Z
UID:bf-AFLABS-URNIK:srecanje:26010-2025-12-01 11:00:00+01:00
DESCRIPTION:Predmet: Geodezija s kartografijo (KA007)\, laboratorijske vaj
 e (LV)\nLetniki: Krajinska arhitektura 1. letnik (LAUN)\nIzvajalci: Klemen
  Kozmus Trajkovski\nProstor: Risalnica Krajinska arhitektura 5
END:VEVENT
BEGIN:VEVENT
SUMMARY:Geodezija s kartografijo (KA007)\, laboratorijske vaje (LV)
DTSTART;TZID=Europe/Ljubljana:20251208T110000
DTEND;TZID=Europe/Ljubljana:20251208T140000
DTSTAMP:20260421T020142Z
UID:bf-AFLABS-URNIK:srecanje:26010-2025-12-08 11:00:00+01:00
DESCRIPTION:Predmet: Geodezija s kartografijo (KA007)\, laboratorijske vaj
 e (LV)\nLetniki: Krajinska arhitektura 1. letnik (LAUN)\nIzvajalci: Klemen
  Kozmus Trajkovski\nProstor: Risalnica Krajinska arhitektura 5
END:VEVENT
BEGIN:VEVENT
SUMMARY:Geodezija s kartografijo (KA007)\, laboratorijske vaje (LV)
DTSTART;TZID=Europe/Ljubljana:20251215T110000
DTEND;TZID=Europe/Ljubljana:20251215T140000
DTSTAMP:20260421T020142Z
UID:bf-AFLABS-URNIK:srecanje:26010-2025-12-15 11:00:00+01:00
DESCRIPTION:Predmet: Geodezija s kartografijo (KA007)\, laboratorijske vaj
 e (LV)\nLetniki: Krajinska arhitektura 1. letnik (LAUN)\nIzvajalci: Klemen
  Kozmus Trajkovski\nProstor: Risalnica Krajinska arhitektura 5
END:VEVENT
BEGIN:VEVENT
SUMMARY:Geodezija s kartografijo (KA007)\, laboratorijske vaje (LV)
DTSTART;TZID=Europe/Ljubljana:20251222T110000
DTEND;TZID=Europe/Ljubljana:20251222T140000
DTSTAMP:20260421T020142Z
UID:bf-AFLABS-URNIK:srecanje:26010-2025-12-22 11:00:00+01:00
DESCRIPTION:Predmet: Geodezija s kartografijo (KA007)\, laboratorijske vaj
 e (LV)\nLetniki: Krajinska arhitektura 1. letnik (LAUN)\nIzvajalci: Klemen
  Kozmus Trajkovski\nProstor: Risalnica Krajinska arhitektura 5
END:VEVENT
BEGIN:VEVENT
SUMMARY:Geodezija s kartografijo (KA007)\, laboratorijske vaje (LV)
DTSTART;TZID=Europe/Ljubljana:20251229T110000
DTEND;TZID=Europe/Ljubljana:20251229T140000
DTSTAMP:20260421T020142Z
UID:bf-AFLABS-URNIK:srecanje:26010-2025-12-29 11:00:00+01:00
DESCRIPTION:Predmet: Geodezija s kartografijo (KA007)\, laboratorijske vaj
 e (LV)\nLetniki: Krajinska arhitektura 1. letnik (LAUN)\nIzvajalci: Klemen
  Kozmus Trajkovski\nProstor: Risalnica Krajinska arhitektura 5
END:VEVENT
BEGIN:VEVENT
SUMMARY:Geodezija s kartografijo (KA007)\, laboratorijske vaje (LV)
DTSTART;TZID=Europe/Ljubljana:20260105T110000
DTEND;TZID=Europe/Ljubljana:20260105T140000
DTSTAMP:20260421T020142Z
UID:bf-AFLABS-URNIK:srecanje:26010-2026-01-05 11:00:00+01:00
DESCRIPTION:Predmet: Geodezija s kartografijo (KA007)\, laboratorijske vaj
 e (LV)\nLetniki: Krajinska arhitektura 1. letnik (LAUN)\nIzvajalci: Klemen
  Kozmus Trajkovski\nProstor: Risalnica Krajinska arhitektura 5
END:VEVENT
BEGIN:VEVENT
SUMMARY:Geodezija s kartografijo (KA007)\, laboratorijske vaje (LV)
DTSTART;TZID=Europe/Ljubljana:20260112T110000
DTEND;TZID=Europe/Ljubljana:20260112T140000
DTSTAMP:20260421T020142Z
UID:bf-AFLABS-URNIK:srecanje:26010-2026-01-12 11:00:00+01:00
DESCRIPTION:Predmet: Geodezija s kartografijo (KA007)\, laboratorijske vaj
 e (LV)\nLetniki: Krajinska arhitektura 1. letnik (LAUN)\nIzvajalci: Klemen
  Kozmus Trajkovski\nProstor: Risalnica Krajinska arhitektura 5
END:VEVENT
BEGIN:VEVENT
SUMMARY:Geodezija s kartografijo (KA007)\, laboratorijske vaje (LV)\, [:1]
DTSTART;TZID=Europe/Ljubljana:20260216T080000
DTEND;TZID=Europe/Ljubljana:20260216T110000
DTSTAMP:20260421T020142Z
UID:bf-AFLABS-URNIK:srecanje:27020-2026-02-16 08:00:00+01:00
DESCRIPTION:Predmet: Geodezija s kartografijo (KA007)\, laboratorijske vaj
 e (LV)\, [:1]\nLetniki: Krajinska arhitektura 1. letnik (LAUN)\nIzvajalci:
  Klemen Kozmus Trajkovski\nProstor: Risalnica Krajinska arhitektura 5
END:VEVENT
BEGIN:VEVENT
SUMMARY:Geodezija s kartografijo (KA007)\, laboratorijske vaje (LV)\, [:1]
DTSTART;TZID=Europe/Ljubljana:20260223T080000
DTEND;TZID=Europe/Ljubljana:20260223T110000
DTSTAMP:20260421T020142Z
UID:bf-AFLABS-URNIK:srecanje:27020-2026-02-23 08:00:00+01:00
DESCRIPTION:Predmet: Geodezija s kartografijo (KA007)\, laboratorijske vaj
 e (LV)\, [:1]\nLetniki: Krajinska arhitektura 1. letnik (LAUN)\nIzvajalci:
  Klemen Kozmus Trajkovski\nProstor: Risalnica Krajinska arhitektura 5
END:VEVENT
BEGIN:VEVENT
SUMMARY:Geodezija s kartografijo (KA007)\, laboratorijske vaje (LV)\, [:1]
DTSTART;TZID=Europe/Ljubljana:20260302T080000
DTEND;TZID=Europe/Ljubljana:20260302T110000
DTSTAMP:20260421T020142Z
UID:bf-AFLABS-URNIK:srecanje:27020-2026-03-02 08:00:00+01:00
DESCRIPTION:Predmet: Geodezija s kartografijo (KA007)\, laboratorijske vaj
 e (LV)\, [:1]\nLetniki: Krajinska arhitektura 1. letnik (LAUN)\nIzvajalci:
  Klemen Kozmus Trajkovski\nProstor: Risalnica Krajinska arhitektura 5
END:VEVENT
BEGIN:VEVENT
SUMMARY:Geodezija s kartografijo (KA007)\, laboratorijske vaje (LV)\, [:1]
DTSTART;TZID=Europe/Ljubljana:20260309T080000
DTEND;TZID=Europe/Ljubljana:20260309T110000
DTSTAMP:20260421T020142Z
UID:bf-AFLABS-URNIK:srecanje:27020-2026-03-09 08:00:00+01:00
DESCRIPTION:Predmet: Geodezija s kartografijo (KA007)\, laboratorijske vaj
 e (LV)\, [:1]\nLetniki: Krajinska arhitektura 1. letnik (LAUN)\nIzvajalci:
  Klemen Kozmus Trajkovski\nProstor: Risalnica Krajinska arhitektura 5
END:VEVENT
BEGIN:VEVENT
SUMMARY:Geodezija s kartografijo (KA007)\, laboratorijske vaje (LV)\, [:1]
DTSTART;TZID=Europe/Ljubljana:20260316T080000
DTEND;TZID=Europe/Ljubljana:20260316T110000
DTSTAMP:20260421T020142Z
UID:bf-AFLABS-URNIK:srecanje:27020-2026-03-16 08:00:00+01:00
DESCRIPTION:Predmet: Geodezija s kartografijo (KA007)\, laboratorijske vaj
 e (LV)\, [:1]\nLetniki: Krajinska arhitektura 1. letnik (LAUN)\nIzvajalci:
  Klemen Kozmus Trajkovski\nProstor: Risalnica Krajinska arhitektura 5
END:VEVENT
BEGIN:VEVENT
SUMMARY:Geodezija s kartografijo (KA007)\, laboratorijske vaje (LV)\, [:1]
DTSTART;TZID=Europe/Ljubljana:20260323T080000
DTEND;TZID=Europe/Ljubljana:20260323T110000
DTSTAMP:20260421T020142Z
UID:bf-AFLABS-URNIK:srecanje:27020-2026-03-23 08:00:00+01:00
DESCRIPTION:Predmet: Geodezija s kartografijo (KA007)\, laboratorijske vaj
 e (LV)\, [:1]\nLetniki: Krajinska arhitektura 1. letnik (LAUN)\nIzvajalci:
  Klemen Kozmus Trajkovski\nProstor: Risalnica Krajinska arhitektura 5
END:VEVENT
BEGIN:VEVENT
SUMMARY:Geodezija s kartografijo (KA007)\, laboratorijske vaje (LV)\, [:1]
DTSTART;TZID=Europe/Ljubljana:20260330T080000
DTEND;TZID=Europe/Ljubljana:20260330T110000
DTSTAMP:20260421T020142Z
UID:bf-AFLABS-URNIK:srecanje:27020-2026-03-30 08:00:00+02:00
DESCRIPTION:Predmet: Geodezija s kartografijo (KA007)\, laboratorijske vaj
 e (LV)\, [:1]\nLetniki: Krajinska arhitektura 1. letnik (LAUN)\nIzvajalci:
  Klemen Kozmus Trajkovski\nProstor: Risalnica Krajinska arhitektura 5
END:VEVENT
BEGIN:VEVENT
SUMMARY:Geodezija s kartografijo (KA007)\, laboratorijske vaje (LV)\, [:2]
DTSTART;TZID=Europe/Ljubljana:20260216T110000
DTEND;TZID=Europe/Ljubljana:20260216T140000
DTSTAMP:20260421T020142Z
UID:bf-AFLABS-URNIK:srecanje:27021-2026-02-16 11:00:00+01:00
DESCRIPTION:Predmet: Geodezija s kartografijo (KA007)\, laboratorijske vaj
 e (LV)\, [:2]\nLetniki: Krajinska arhitektura 1. letnik (LAUN)\nIzvajalci:
  Klemen Kozmus Trajkovski\nProstor: Risalnica Krajinska arhitektura 5
END:VEVENT
BEGIN:VEVENT
SUMMARY:Geodezija s kartografijo (KA007)\, laboratorijske vaje (LV)\, [:2]
DTSTART;TZID=Europe/Ljubljana:20260223T110000
DTEND;TZID=Europe/Ljubljana:20260223T140000
DTSTAMP:20260421T020142Z
UID:bf-AFLABS-URNIK:srecanje:27021-2026-02-23 11:00:00+01:00
DESCRIPTION:Predmet: Geodezija s kartografijo (KA007)\, laboratorijske vaj
 e (LV)\, [:2]\nLetniki: Krajinska arhitektura 1. letnik (LAUN)\nIzvajalci:
  Klemen Kozmus Trajkovski\nProstor: Risalnica Krajinska arhitektura 5
END:VEVENT
BEGIN:VEVENT
SUMMARY:Geodezija s kartografijo (KA007)\, laboratorijske vaje (LV)\, [:2]
DTSTART;TZID=Europe/Ljubljana:20260302T110000
DTEND;TZID=Europe/Ljubljana:20260302T140000
DTSTAMP:20260421T020142Z
UID:bf-AFLABS-URNIK:srecanje:27021-2026-03-02 11:00:00+01:00
DESCRIPTION:Predmet: Geodezija s kartografijo (KA007)\, laboratorijske vaj
 e (LV)\, [:2]\nLetniki: Krajinska arhitektura 1. letnik (LAUN)\nIzvajalci:
  Klemen Kozmus Trajkovski\nProstor: Risalnica Krajinska arhitektura 5
END:VEVENT
BEGIN:VEVENT
SUMMARY:Geodezija s kartografijo (KA007)\, laboratorijske vaje (LV)\, [:2]
DTSTART;TZID=Europe/Ljubljana:20260309T110000
DTEND;TZID=Europe/Ljubljana:20260309T140000
DTSTAMP:20260421T020142Z
UID:bf-AFLABS-URNIK:srecanje:27021-2026-03-09 11:00:00+01:00
DESCRIPTION:Predmet: Geodezija s kartografijo (KA007)\, laboratorijske vaj
 e (LV)\, [:2]\nLetniki: Krajinska arhitektura 1. letnik (LAUN)\nIzvajalci:
  Klemen Kozmus Trajkovski\nProstor: Risalnica Krajinska arhitektura 5
END:VEVENT
BEGIN:VEVENT
SUMMARY:Geodezija s kartografijo (KA007)\, laboratorijske vaje (LV)\, [:2]
DTSTART;TZID=Europe/Ljubljana:20260316T110000
DTEND;TZID=Europe/Ljubljana:20260316T140000
DTSTAMP:20260421T020142Z
UID:bf-AFLABS-URNIK:srecanje:27021-2026-03-16 11:00:00+01:00
DESCRIPTION:Predmet: Geodezija s kartografijo (KA007)\, laboratorijske vaj
 e (LV)\, [:2]\nLetniki: Krajinska arhitektura 1. letnik (LAUN)\nIzvajalci:
  Klemen Kozmus Trajkovski\nProstor: Risalnica Krajinska arhitektura 5
END:VEVENT
BEGIN:VEVENT
SUMMARY:Geodezija s kartografijo (KA007)\, laboratorijske vaje (LV)\, [:2]
DTSTART;TZID=Europe/Ljubljana:20260323T110000
DTEND;TZID=Europe/Ljubljana:20260323T140000
DTSTAMP:20260421T020142Z
UID:bf-AFLABS-URNIK:srecanje:27021-2026-03-23 11:00:00+01:00
DESCRIPTION:Predmet: Geodezija s kartografijo (KA007)\, laboratorijske vaj
 e (LV)\, [:2]\nLetniki: Krajinska arhitektura 1. letnik (LAUN)\nIzvajalci:
  Klemen Kozmus Trajkovski\nProstor: Risalnica Krajinska arhitektura 5
END:VEVENT
BEGIN:VEVENT
SUMMARY:Geodezija s kartografijo (KA007)\, laboratorijske vaje (LV)\, [:2]
DTSTART;TZID=Europe/Ljubljana:20260330T110000
DTEND;TZID=Europe/Ljubljana:20260330T140000
DTSTAMP:20260421T020142Z
UID:bf-AFLABS-URNIK:srecanje:27021-2026-03-30 11:00:00+02:00
DESCRIPTION:Predmet: Geodezija s kartografijo (KA007)\, laboratorijske vaj
 e (LV)\, [:2]\nLetniki: Krajinska arhitektura 1. letnik (LAUN)\nIzvajalci:
  Klemen Kozmus Trajkovski\nProstor: Risalnica Krajinska arhitektura 5
END:VEVENT
END:VCALENDAR
