BEGIN:VCALENDAR
VERSION:2.0
PRODID:-//AFLabs urnik izvoz - bf//aflabs.si//SI
NAME:UL BF Urnik
X-WR-CALNAME:UL BF Urnik
DTSTAMP:20260426T041158Z
REFRESH-INTERVAL:PT1H
SOURCE:https://urniki.bf.uni-lj.si/en/teacher/110/?day=2025-09-01&export=1
URL:https://urniki.bf.uni-lj.si/en/teacher/110/?day=2025-09-01&export=1
X-PUBLISHED-TTL:PT1H
X-WR-TIMEZONE:Europe/Ljubljana
BEGIN:VTIMEZONE
TZID:Europe/Ljubljana
BEGIN:DAYLIGHT
DTSTART:20260329T020000
RDATE:20260329T020000
RDATE:20270328T020000
TZNAME:CEST
TZOFFSETFROM:+0100
TZOFFSETTO:+0200
END:DAYLIGHT
BEGIN:STANDARD
DTSTART:20261025T030000
RDATE:20261025T030000
RDATE:20271031T030000
TZNAME:CET
TZOFFSETFROM:+0200
TZOFFSETTO:+0100
END:STANDARD
END:VTIMEZONE
BEGIN:VEVENT
SUMMARY:Fiziologija živali z osnovnim praktikumom (BI020)\, laboratorijsk
 e vaje (LV)\, [:1]
DTSTART;TZID=Europe/Ljubljana:20251001T140000
DTEND;TZID=Europe/Ljubljana:20251001T180000
DTSTAMP:20260426T041158Z
UID:bf-AFLABS-URNIK:srecanje:24801-2025-10-01 14:00:00+02:00
DESCRIPTION:Predmet: Fiziologija živali z osnovnim praktikumom (BI020)\, 
 laboratorijske vaje (LV)\, [:1]\nLetniki: Biology 3 (BIUN)\nIzvajalci: Gre
 gor Belušič\, Marko Ilić\, Aleš Škorjanc\nProstor: Biološka vajalnic
 a BV7\, Zoofiziološka vajalnica
END:VEVENT
BEGIN:VEVENT
SUMMARY:Fiziologija živali z osnovnim praktikumom (BI020)\, navodila za v
 aje (NV)
DTSTART;TZID=Europe/Ljubljana:20251001T070000
DTEND;TZID=Europe/Ljubljana:20251001T090000
DTSTAMP:20260426T041158Z
UID:bf-AFLABS-URNIK:srecanje:24805-2025-10-01 07:00:00+02:00
DESCRIPTION:Predmet: Fiziologija živali z osnovnim praktikumom (BI020)\, 
 navodila za vaje (NV)\nLetniki: Biology 3 (BIUN)\nIzvajalci: Gregor Beluš
 ič\, Aleš Škorjanc\nProstor: Predavalnica Biologija B1
END:VEVENT
BEGIN:VEVENT
SUMMARY:Fiziologija BT (BT011)\, laboratorijske vaje (LV)\, [:2]
DTSTART;TZID=Europe/Ljubljana:20251002T080000
DTEND;TZID=Europe/Ljubljana:20251002T110000
DTSTAMP:20260426T041158Z
UID:bf-AFLABS-URNIK:srecanje:24773-2025-10-02 08:00:00+02:00
DESCRIPTION:Predmet: Fiziologija BT (BT011)\, laboratorijske vaje (LV)\, [
 :2]\nLetniki: Biotehnologija 2. letnik (BTUN)\nIzvajalci: Gregor Belušič
 \, Aleš Škorjanc\nProstor: Biološka vajalnica BV7\, Zoofiziološka vaja
 lnica
END:VEVENT
BEGIN:VEVENT
SUMMARY:Fiziologija BT (BT011)\, laboratorijske vaje (LV)\, [:3]
DTSTART;TZID=Europe/Ljubljana:20251002T110000
DTEND;TZID=Europe/Ljubljana:20251002T140000
DTSTAMP:20260426T041158Z
UID:bf-AFLABS-URNIK:srecanje:24776-2025-10-02 11:00:00+02:00
DESCRIPTION:Predmet: Fiziologija BT (BT011)\, laboratorijske vaje (LV)\, [
 :3]\nLetniki: Biotehnologija 2. letnik (BTUN)\nIzvajalci: Gregor Belušič
 \, Aleš Škorjanc\nProstor: Biološka vajalnica BV7\, Zoofiziološka vaja
 lnica
END:VEVENT
BEGIN:VEVENT
SUMMARY:Fiziologija živali z osnovnim praktikumom (BI020)\, laboratorijsk
 e vaje (LV)\, [:2]
DTSTART;TZID=Europe/Ljubljana:20251003T080000
DTEND;TZID=Europe/Ljubljana:20251003T120000
DTSTAMP:20260426T041158Z
UID:bf-AFLABS-URNIK:srecanje:24802-2025-10-03 08:00:00+02:00
DESCRIPTION:Predmet: Fiziologija živali z osnovnim praktikumom (BI020)\, 
 laboratorijske vaje (LV)\, [:2]\nLetniki: Biology 3 (BIUN)\nIzvajalci: Gre
 gor Belušič\, Marko Ilić\, Aleš Škorjanc\nProstor: Biološka vajalnic
 a BV7\, Zoofiziološka vajalnica
END:VEVENT
BEGIN:VEVENT
SUMMARY:Fiziologija živali z osnovnim praktikumom (BI020)\, laboratorijsk
 e vaje (LV)\, [:3]
DTSTART;TZID=Europe/Ljubljana:20251003T120000
DTEND;TZID=Europe/Ljubljana:20251003T160000
DTSTAMP:20260426T041158Z
UID:bf-AFLABS-URNIK:srecanje:24803-2025-10-03 12:00:00+02:00
DESCRIPTION:Predmet: Fiziologija živali z osnovnim praktikumom (BI020)\, 
 laboratorijske vaje (LV)\, [:3]\nLetniki: Biology 3 (BIUN)\nIzvajalci: Gre
 gor Belušič\, Marko Ilić\, Aleš Škorjanc\nProstor: Biološka vajalnic
 a BV7\, Zoofiziološka vajalnica
END:VEVENT
BEGIN:VEVENT
SUMMARY:Fiziologija živali z osnovnim praktikumom (BI020)\, laboratorijsk
 e vaje (LV)\, [:4]
DTSTART;TZID=Europe/Ljubljana:20251006T090000
DTEND;TZID=Europe/Ljubljana:20251006T170000
DTSTAMP:20260426T041158Z
UID:bf-AFLABS-URNIK:srecanje:24804-2025-10-06 09:00:00+02:00
DESCRIPTION:Predmet: Fiziologija živali z osnovnim praktikumom (BI020)\, 
 laboratorijske vaje (LV)\, [:4]\nLetniki: Biology 3 (BIUN)\nIzvajalci: Gre
 gor Belušič\, Marko Ilić\, Aleš Škorjanc\nProstor: Biološka vajalnic
 a BV7\, Zoofiziološka vajalnica
END:VEVENT
END:VCALENDAR
