BEGIN:VCALENDAR
VERSION:2.0
PRODID:-//AFLabs urnik izvoz - bf//aflabs.si//SI
NAME:UL BF Urnik
X-WR-CALNAME:UL BF Urnik
DTSTAMP:20260419T220443Z
REFRESH-INTERVAL:PT1H
SOURCE:https://urniki.bf.uni-lj.si/en/teacher/103/?day=2025-10-06&export=1
URL:https://urniki.bf.uni-lj.si/en/teacher/103/?day=2025-10-06&export=1
X-PUBLISHED-TTL:PT1H
X-WR-TIMEZONE:Europe/Ljubljana
BEGIN:VTIMEZONE
TZID:Europe/Ljubljana
BEGIN:DAYLIGHT
DTSTART:20260329T020000
RDATE:20260329T020000
RDATE:20270328T020000
TZNAME:CEST
TZOFFSETFROM:+0100
TZOFFSETTO:+0200
END:DAYLIGHT
BEGIN:STANDARD
DTSTART:20261025T030000
RDATE:20261025T030000
RDATE:20271031T030000
TZNAME:CET
TZOFFSETFROM:+0200
TZOFFSETTO:+0100
END:STANDARD
END:VTIMEZONE
BEGIN:VEVENT
SUMMARY:Simbionti in paraziti živali (BI339)\, predavanja in seminarji (P
 +S)
DTSTART;TZID=Europe/Ljubljana:20251001T150000
DTEND;TZID=Europe/Ljubljana:20251001T170000
DTSTAMP:20260419T220443Z
UID:bf-AFLABS-URNIK:srecanje:28944-2025-10-01 15:00:00+02:00
DESCRIPTION:Predmet: Simbionti in paraziti živali (BI339)\, predavanja in
  seminarji (P+S)\nLetniki: Biološko izobraževanje 1. letnik (MBE)\, Ekol
 ogija in biodiverziteta 2. letnik (MEB)\, Ekologija in biodiverziteta 1. l
 etnik (MEB)\, Molekulska in funkcionalna biologija 2. letnik (MMFB)\, Mole
 kulska in funkcionalna biologija 1. letnik (MMFB)\nIzvajalci: Rok Kostanj
 šek\nProstor: Predavalnica Biologija B2
END:VEVENT
BEGIN:VEVENT
SUMMARY:Simbionti in paraziti živali (BI339)\, predavanja in seminarji (P
 +S)
DTSTART;TZID=Europe/Ljubljana:20251008T150000
DTEND;TZID=Europe/Ljubljana:20251008T170000
DTSTAMP:20260419T220443Z
UID:bf-AFLABS-URNIK:srecanje:28944-2025-10-08 15:00:00+02:00
DESCRIPTION:Predmet: Simbionti in paraziti živali (BI339)\, predavanja in
  seminarji (P+S)\nLetniki: Biološko izobraževanje 1. letnik (MBE)\, Ekol
 ogija in biodiverziteta 2. letnik (MEB)\, Ekologija in biodiverziteta 1. l
 etnik (MEB)\, Molekulska in funkcionalna biologija 2. letnik (MMFB)\, Mole
 kulska in funkcionalna biologija 1. letnik (MMFB)\nIzvajalci: Rok Kostanj
 šek\nProstor: Predavalnica Biologija B2
END:VEVENT
BEGIN:VEVENT
SUMMARY:Simbionti in paraziti živali (BI339)\, predavanja in seminarji (P
 +S)
DTSTART;TZID=Europe/Ljubljana:20251015T150000
DTEND;TZID=Europe/Ljubljana:20251015T170000
DTSTAMP:20260419T220443Z
UID:bf-AFLABS-URNIK:srecanje:28944-2025-10-15 15:00:00+02:00
DESCRIPTION:Predmet: Simbionti in paraziti živali (BI339)\, predavanja in
  seminarji (P+S)\nLetniki: Biološko izobraževanje 1. letnik (MBE)\, Ekol
 ogija in biodiverziteta 2. letnik (MEB)\, Ekologija in biodiverziteta 1. l
 etnik (MEB)\, Molekulska in funkcionalna biologija 2. letnik (MMFB)\, Mole
 kulska in funkcionalna biologija 1. letnik (MMFB)\nIzvajalci: Rok Kostanj
 šek\nProstor: Predavalnica Biologija B2
END:VEVENT
BEGIN:VEVENT
SUMMARY:Simbionti in paraziti živali (BI339)\, predavanja in seminarji (P
 +S)
DTSTART;TZID=Europe/Ljubljana:20251022T150000
DTEND;TZID=Europe/Ljubljana:20251022T170000
DTSTAMP:20260419T220443Z
UID:bf-AFLABS-URNIK:srecanje:28944-2025-10-22 15:00:00+02:00
DESCRIPTION:Predmet: Simbionti in paraziti živali (BI339)\, predavanja in
  seminarji (P+S)\nLetniki: Biološko izobraževanje 1. letnik (MBE)\, Ekol
 ogija in biodiverziteta 2. letnik (MEB)\, Ekologija in biodiverziteta 1. l
 etnik (MEB)\, Molekulska in funkcionalna biologija 2. letnik (MMFB)\, Mole
 kulska in funkcionalna biologija 1. letnik (MMFB)\nIzvajalci: Rok Kostanj
 šek\nProstor: Predavalnica Biologija B2
END:VEVENT
BEGIN:VEVENT
SUMMARY:Simbionti in paraziti živali (BI339)\, predavanja in seminarji (P
 +S)
DTSTART;TZID=Europe/Ljubljana:20251029T150000
DTEND;TZID=Europe/Ljubljana:20251029T170000
DTSTAMP:20260419T220443Z
UID:bf-AFLABS-URNIK:srecanje:28944-2025-10-29 15:00:00+01:00
DESCRIPTION:Predmet: Simbionti in paraziti živali (BI339)\, predavanja in
  seminarji (P+S)\nLetniki: Biološko izobraževanje 1. letnik (MBE)\, Ekol
 ogija in biodiverziteta 2. letnik (MEB)\, Ekologija in biodiverziteta 1. l
 etnik (MEB)\, Molekulska in funkcionalna biologija 2. letnik (MMFB)\, Mole
 kulska in funkcionalna biologija 1. letnik (MMFB)\nIzvajalci: Rok Kostanj
 šek\nProstor: Predavalnica Biologija B2
END:VEVENT
BEGIN:VEVENT
SUMMARY:Simbionti in paraziti živali (BI339)\, predavanja in seminarji (P
 +S)
DTSTART;TZID=Europe/Ljubljana:20251105T150000
DTEND;TZID=Europe/Ljubljana:20251105T170000
DTSTAMP:20260419T220443Z
UID:bf-AFLABS-URNIK:srecanje:28944-2025-11-05 15:00:00+01:00
DESCRIPTION:Predmet: Simbionti in paraziti živali (BI339)\, predavanja in
  seminarji (P+S)\nLetniki: Biološko izobraževanje 1. letnik (MBE)\, Ekol
 ogija in biodiverziteta 2. letnik (MEB)\, Ekologija in biodiverziteta 1. l
 etnik (MEB)\, Molekulska in funkcionalna biologija 2. letnik (MMFB)\, Mole
 kulska in funkcionalna biologija 1. letnik (MMFB)\nIzvajalci: Rok Kostanj
 šek\nProstor: Predavalnica Biologija B2
END:VEVENT
BEGIN:VEVENT
SUMMARY:Simbionti in paraziti živali (BI339)\, predavanja in seminarji (P
 +S)
DTSTART;TZID=Europe/Ljubljana:20251112T150000
DTEND;TZID=Europe/Ljubljana:20251112T170000
DTSTAMP:20260419T220443Z
UID:bf-AFLABS-URNIK:srecanje:28944-2025-11-12 15:00:00+01:00
DESCRIPTION:Predmet: Simbionti in paraziti živali (BI339)\, predavanja in
  seminarji (P+S)\nLetniki: Biološko izobraževanje 1. letnik (MBE)\, Ekol
 ogija in biodiverziteta 2. letnik (MEB)\, Ekologija in biodiverziteta 1. l
 etnik (MEB)\, Molekulska in funkcionalna biologija 2. letnik (MMFB)\, Mole
 kulska in funkcionalna biologija 1. letnik (MMFB)\nIzvajalci: Rok Kostanj
 šek\nProstor: Predavalnica Biologija B2
END:VEVENT
BEGIN:VEVENT
SUMMARY:Simbionti in paraziti živali (BI339)\, predavanja in seminarji (P
 +S)
DTSTART;TZID=Europe/Ljubljana:20251002T160000
DTEND;TZID=Europe/Ljubljana:20251002T180000
DTSTAMP:20260419T220443Z
UID:bf-AFLABS-URNIK:srecanje:28953-2025-10-02 16:00:00+02:00
DESCRIPTION:Predmet: Simbionti in paraziti živali (BI339)\, predavanja in
  seminarji (P+S)\nLetniki: Biološko izobraževanje 1. letnik (MBE)\, Ekol
 ogija in biodiverziteta 2. letnik (MEB)\, Ekologija in biodiverziteta 1. l
 etnik (MEB)\, Molekulska in funkcionalna biologija 2. letnik (MMFB)\, Mole
 kulska in funkcionalna biologija 1. letnik (MMFB)\nIzvajalci: Rok Kostanj
 šek\nProstor: Predavalnica Biologija B5
END:VEVENT
BEGIN:VEVENT
SUMMARY:Simbionti in paraziti živali (BI339)\, predavanja in seminarji (P
 +S)
DTSTART;TZID=Europe/Ljubljana:20251009T160000
DTEND;TZID=Europe/Ljubljana:20251009T180000
DTSTAMP:20260419T220443Z
UID:bf-AFLABS-URNIK:srecanje:28953-2025-10-09 16:00:00+02:00
DESCRIPTION:Predmet: Simbionti in paraziti živali (BI339)\, predavanja in
  seminarji (P+S)\nLetniki: Biološko izobraževanje 1. letnik (MBE)\, Ekol
 ogija in biodiverziteta 2. letnik (MEB)\, Ekologija in biodiverziteta 1. l
 etnik (MEB)\, Molekulska in funkcionalna biologija 2. letnik (MMFB)\, Mole
 kulska in funkcionalna biologija 1. letnik (MMFB)\nIzvajalci: Rok Kostanj
 šek\nProstor: Predavalnica Biologija B5
END:VEVENT
BEGIN:VEVENT
SUMMARY:Simbionti in paraziti živali (BI339)\, predavanja in seminarji (P
 +S)
DTSTART;TZID=Europe/Ljubljana:20251016T160000
DTEND;TZID=Europe/Ljubljana:20251016T180000
DTSTAMP:20260419T220443Z
UID:bf-AFLABS-URNIK:srecanje:28953-2025-10-16 16:00:00+02:00
DESCRIPTION:Predmet: Simbionti in paraziti živali (BI339)\, predavanja in
  seminarji (P+S)\nLetniki: Biološko izobraževanje 1. letnik (MBE)\, Ekol
 ogija in biodiverziteta 2. letnik (MEB)\, Ekologija in biodiverziteta 1. l
 etnik (MEB)\, Molekulska in funkcionalna biologija 2. letnik (MMFB)\, Mole
 kulska in funkcionalna biologija 1. letnik (MMFB)\nIzvajalci: Rok Kostanj
 šek\nProstor: Predavalnica Biologija B5
END:VEVENT
BEGIN:VEVENT
SUMMARY:Simbionti in paraziti živali (BI339)\, predavanja in seminarji (P
 +S)
DTSTART;TZID=Europe/Ljubljana:20251023T160000
DTEND;TZID=Europe/Ljubljana:20251023T180000
DTSTAMP:20260419T220443Z
UID:bf-AFLABS-URNIK:srecanje:28953-2025-10-23 16:00:00+02:00
DESCRIPTION:Predmet: Simbionti in paraziti živali (BI339)\, predavanja in
  seminarji (P+S)\nLetniki: Biološko izobraževanje 1. letnik (MBE)\, Ekol
 ogija in biodiverziteta 2. letnik (MEB)\, Ekologija in biodiverziteta 1. l
 etnik (MEB)\, Molekulska in funkcionalna biologija 2. letnik (MMFB)\, Mole
 kulska in funkcionalna biologija 1. letnik (MMFB)\nIzvajalci: Rok Kostanj
 šek\nProstor: Predavalnica Biologija B5
END:VEVENT
BEGIN:VEVENT
SUMMARY:Simbionti in paraziti živali (BI339)\, predavanja in seminarji (P
 +S)
DTSTART;TZID=Europe/Ljubljana:20251030T160000
DTEND;TZID=Europe/Ljubljana:20251030T180000
DTSTAMP:20260419T220443Z
UID:bf-AFLABS-URNIK:srecanje:28953-2025-10-30 16:00:00+01:00
DESCRIPTION:Predmet: Simbionti in paraziti živali (BI339)\, predavanja in
  seminarji (P+S)\nLetniki: Biološko izobraževanje 1. letnik (MBE)\, Ekol
 ogija in biodiverziteta 2. letnik (MEB)\, Ekologija in biodiverziteta 1. l
 etnik (MEB)\, Molekulska in funkcionalna biologija 2. letnik (MMFB)\, Mole
 kulska in funkcionalna biologija 1. letnik (MMFB)\nIzvajalci: Rok Kostanj
 šek\nProstor: Predavalnica Biologija B5
END:VEVENT
BEGIN:VEVENT
SUMMARY:Simbionti in paraziti živali (BI339)\, predavanja in seminarji (P
 +S)
DTSTART;TZID=Europe/Ljubljana:20251106T160000
DTEND;TZID=Europe/Ljubljana:20251106T180000
DTSTAMP:20260419T220443Z
UID:bf-AFLABS-URNIK:srecanje:28953-2025-11-06 16:00:00+01:00
DESCRIPTION:Predmet: Simbionti in paraziti živali (BI339)\, predavanja in
  seminarji (P+S)\nLetniki: Biološko izobraževanje 1. letnik (MBE)\, Ekol
 ogija in biodiverziteta 2. letnik (MEB)\, Ekologija in biodiverziteta 1. l
 etnik (MEB)\, Molekulska in funkcionalna biologija 2. letnik (MMFB)\, Mole
 kulska in funkcionalna biologija 1. letnik (MMFB)\nIzvajalci: Rok Kostanj
 šek\nProstor: Predavalnica Biologija B5
END:VEVENT
BEGIN:VEVENT
SUMMARY:Simbionti in paraziti živali (BI339)\, predavanja in seminarji (P
 +S)
DTSTART;TZID=Europe/Ljubljana:20251113T160000
DTEND;TZID=Europe/Ljubljana:20251113T180000
DTSTAMP:20260419T220443Z
UID:bf-AFLABS-URNIK:srecanje:28953-2025-11-13 16:00:00+01:00
DESCRIPTION:Predmet: Simbionti in paraziti živali (BI339)\, predavanja in
  seminarji (P+S)\nLetniki: Biološko izobraževanje 1. letnik (MBE)\, Ekol
 ogija in biodiverziteta 2. letnik (MEB)\, Ekologija in biodiverziteta 1. l
 etnik (MEB)\, Molekulska in funkcionalna biologija 2. letnik (MMFB)\, Mole
 kulska in funkcionalna biologija 1. letnik (MMFB)\nIzvajalci: Rok Kostanj
 šek\nProstor: Predavalnica Biologija B5
END:VEVENT
BEGIN:VEVENT
SUMMARY:Uvod v odnose med organizmi (BI034)\, predavanja in seminarji (P+S
 )
DTSTART;TZID=Europe/Ljubljana:20251003T140000
DTEND;TZID=Europe/Ljubljana:20251003T170000
DTSTAMP:20260419T220443Z
UID:bf-AFLABS-URNIK:srecanje:25574-2025-10-03 14:00:00+02:00
DESCRIPTION:Predmet: Uvod v odnose med organizmi (BI034)\, predavanja in s
 eminarji (P+S)\nLetniki: Biology 2 (BIUN)\, Biology 3 (BIUN)\nIzvajalci: R
 ok Kostanjšek\, Marjana Regvar\nProstor: Predavalnica Biologija B2
END:VEVENT
BEGIN:VEVENT
SUMMARY:Uvod v odnose med organizmi (BI034)\, predavanja in seminarji (P+S
 )
DTSTART;TZID=Europe/Ljubljana:20251010T140000
DTEND;TZID=Europe/Ljubljana:20251010T170000
DTSTAMP:20260419T220443Z
UID:bf-AFLABS-URNIK:srecanje:25574-2025-10-10 14:00:00+02:00
DESCRIPTION:Predmet: Uvod v odnose med organizmi (BI034)\, predavanja in s
 eminarji (P+S)\nLetniki: Biology 2 (BIUN)\, Biology 3 (BIUN)\nIzvajalci: R
 ok Kostanjšek\, Marjana Regvar\nProstor: Predavalnica Biologija B2
END:VEVENT
BEGIN:VEVENT
SUMMARY:Uvod v odnose med organizmi (BI034)\, predavanja in seminarji (P+S
 )
DTSTART;TZID=Europe/Ljubljana:20251017T140000
DTEND;TZID=Europe/Ljubljana:20251017T170000
DTSTAMP:20260419T220443Z
UID:bf-AFLABS-URNIK:srecanje:25574-2025-10-17 14:00:00+02:00
DESCRIPTION:Predmet: Uvod v odnose med organizmi (BI034)\, predavanja in s
 eminarji (P+S)\nLetniki: Biology 2 (BIUN)\, Biology 3 (BIUN)\nIzvajalci: R
 ok Kostanjšek\, Marjana Regvar\nProstor: Predavalnica Biologija B2
END:VEVENT
BEGIN:VEVENT
SUMMARY:Uvod v odnose med organizmi (BI034)\, predavanja in seminarji (P+S
 )
DTSTART;TZID=Europe/Ljubljana:20251024T140000
DTEND;TZID=Europe/Ljubljana:20251024T170000
DTSTAMP:20260419T220443Z
UID:bf-AFLABS-URNIK:srecanje:25574-2025-10-24 14:00:00+02:00
DESCRIPTION:Predmet: Uvod v odnose med organizmi (BI034)\, predavanja in s
 eminarji (P+S)\nLetniki: Biology 2 (BIUN)\, Biology 3 (BIUN)\nIzvajalci: R
 ok Kostanjšek\, Marjana Regvar\nProstor: Predavalnica Biologija B2
END:VEVENT
BEGIN:VEVENT
SUMMARY:Uvod v odnose med organizmi (BI034)\, predavanja in seminarji (P+S
 )
DTSTART;TZID=Europe/Ljubljana:20251031T140000
DTEND;TZID=Europe/Ljubljana:20251031T170000
DTSTAMP:20260419T220443Z
UID:bf-AFLABS-URNIK:srecanje:25574-2025-10-31 14:00:00+01:00
DESCRIPTION:Predmet: Uvod v odnose med organizmi (BI034)\, predavanja in s
 eminarji (P+S)\nLetniki: Biology 2 (BIUN)\, Biology 3 (BIUN)\nIzvajalci: R
 ok Kostanjšek\, Marjana Regvar\nProstor: Predavalnica Biologija B2
END:VEVENT
BEGIN:VEVENT
SUMMARY:Uvod v odnose med organizmi (BI034)\, predavanja in seminarji (P+S
 )
DTSTART;TZID=Europe/Ljubljana:20251107T140000
DTEND;TZID=Europe/Ljubljana:20251107T170000
DTSTAMP:20260419T220443Z
UID:bf-AFLABS-URNIK:srecanje:25574-2025-11-07 14:00:00+01:00
DESCRIPTION:Predmet: Uvod v odnose med organizmi (BI034)\, predavanja in s
 eminarji (P+S)\nLetniki: Biology 2 (BIUN)\, Biology 3 (BIUN)\nIzvajalci: R
 ok Kostanjšek\, Marjana Regvar\nProstor: Predavalnica Biologija B2
END:VEVENT
BEGIN:VEVENT
SUMMARY:Uvod v odnose med organizmi (BI034)\, predavanja in seminarji (P+S
 )
DTSTART;TZID=Europe/Ljubljana:20251114T140000
DTEND;TZID=Europe/Ljubljana:20251114T170000
DTSTAMP:20260419T220443Z
UID:bf-AFLABS-URNIK:srecanje:25574-2025-11-14 14:00:00+01:00
DESCRIPTION:Predmet: Uvod v odnose med organizmi (BI034)\, predavanja in s
 eminarji (P+S)\nLetniki: Biology 2 (BIUN)\, Biology 3 (BIUN)\nIzvajalci: R
 ok Kostanjšek\, Marjana Regvar\nProstor: Predavalnica Biologija B2
END:VEVENT
BEGIN:VEVENT
SUMMARY:Embriologija (BI332)\, predavanja in seminarji (P+S)
DTSTART;TZID=Europe/Ljubljana:20251003T100000
DTEND;TZID=Europe/Ljubljana:20251003T120000
DTSTAMP:20260419T220443Z
UID:bf-AFLABS-URNIK:srecanje:24732-2025-10-03 10:00:00+02:00
DESCRIPTION:Predmet: Embriologija (BI332)\, predavanja in seminarji (P+S)\
 nLetniki: Molekulska in funkcionalna biologija 1. letnik (MMFB)\nIzvajalci
 : Lilijana Bizjak-Mali\, Rok Kostanjšek\nProstor: Predavalnica Biologija 
 B5
END:VEVENT
BEGIN:VEVENT
SUMMARY:Embriologija (BI332)\, predavanja in seminarji (P+S)
DTSTART;TZID=Europe/Ljubljana:20251010T100000
DTEND;TZID=Europe/Ljubljana:20251010T120000
DTSTAMP:20260419T220443Z
UID:bf-AFLABS-URNIK:srecanje:24732-2025-10-10 10:00:00+02:00
DESCRIPTION:Predmet: Embriologija (BI332)\, predavanja in seminarji (P+S)\
 nLetniki: Molekulska in funkcionalna biologija 1. letnik (MMFB)\nIzvajalci
 : Lilijana Bizjak-Mali\, Rok Kostanjšek\nProstor: Predavalnica Biologija 
 B5
END:VEVENT
BEGIN:VEVENT
SUMMARY:Embriologija (BI332)\, predavanja in seminarji (P+S)
DTSTART;TZID=Europe/Ljubljana:20251017T100000
DTEND;TZID=Europe/Ljubljana:20251017T120000
DTSTAMP:20260419T220443Z
UID:bf-AFLABS-URNIK:srecanje:24732-2025-10-17 10:00:00+02:00
DESCRIPTION:Predmet: Embriologija (BI332)\, predavanja in seminarji (P+S)\
 nLetniki: Molekulska in funkcionalna biologija 1. letnik (MMFB)\nIzvajalci
 : Lilijana Bizjak-Mali\, Rok Kostanjšek\nProstor: Predavalnica Biologija 
 B5
END:VEVENT
BEGIN:VEVENT
SUMMARY:Embriologija (BI332)\, predavanja in seminarji (P+S)
DTSTART;TZID=Europe/Ljubljana:20251024T100000
DTEND;TZID=Europe/Ljubljana:20251024T120000
DTSTAMP:20260419T220443Z
UID:bf-AFLABS-URNIK:srecanje:24732-2025-10-24 10:00:00+02:00
DESCRIPTION:Predmet: Embriologija (BI332)\, predavanja in seminarji (P+S)\
 nLetniki: Molekulska in funkcionalna biologija 1. letnik (MMFB)\nIzvajalci
 : Lilijana Bizjak-Mali\, Rok Kostanjšek\nProstor: Predavalnica Biologija 
 B5
END:VEVENT
BEGIN:VEVENT
SUMMARY:Embriologija (BI332)\, predavanja in seminarji (P+S)
DTSTART;TZID=Europe/Ljubljana:20251031T100000
DTEND;TZID=Europe/Ljubljana:20251031T120000
DTSTAMP:20260419T220443Z
UID:bf-AFLABS-URNIK:srecanje:24732-2025-10-31 10:00:00+01:00
DESCRIPTION:Predmet: Embriologija (BI332)\, predavanja in seminarji (P+S)\
 nLetniki: Molekulska in funkcionalna biologija 1. letnik (MMFB)\nIzvajalci
 : Lilijana Bizjak-Mali\, Rok Kostanjšek\nProstor: Predavalnica Biologija 
 B5
END:VEVENT
BEGIN:VEVENT
SUMMARY:Embriologija (BI332)\, predavanja in seminarji (P+S)
DTSTART;TZID=Europe/Ljubljana:20251107T100000
DTEND;TZID=Europe/Ljubljana:20251107T120000
DTSTAMP:20260419T220443Z
UID:bf-AFLABS-URNIK:srecanje:24732-2025-11-07 10:00:00+01:00
DESCRIPTION:Predmet: Embriologija (BI332)\, predavanja in seminarji (P+S)\
 nLetniki: Molekulska in funkcionalna biologija 1. letnik (MMFB)\nIzvajalci
 : Lilijana Bizjak-Mali\, Rok Kostanjšek\nProstor: Predavalnica Biologija 
 B5
END:VEVENT
BEGIN:VEVENT
SUMMARY:Embriologija (BI332)\, predavanja in seminarji (P+S)
DTSTART;TZID=Europe/Ljubljana:20251114T100000
DTEND;TZID=Europe/Ljubljana:20251114T120000
DTSTAMP:20260419T220443Z
UID:bf-AFLABS-URNIK:srecanje:24732-2025-11-14 10:00:00+01:00
DESCRIPTION:Predmet: Embriologija (BI332)\, predavanja in seminarji (P+S)\
 nLetniki: Molekulska in funkcionalna biologija 1. letnik (MMFB)\nIzvajalci
 : Lilijana Bizjak-Mali\, Rok Kostanjšek\nProstor: Predavalnica Biologija 
 B5
END:VEVENT
BEGIN:VEVENT
SUMMARY:Zoologija strunarjev PeF (0070701)\, predavanja in seminarji (P+S)
DTSTART;TZID=Europe/Ljubljana:20251006T131500
DTEND;TZID=Europe/Ljubljana:20251006T150000
DTSTAMP:20260419T220443Z
UID:bf-AFLABS-URNIK:srecanje:25658-2025-10-06 13:15:00+02:00
DESCRIPTION:Predmet: Zoologija strunarjev PeF (0070701)\, predavanja in se
 minarji (P+S)\nLetniki: Dvopredmetni učitelj 2. letnik (BI-CH-HE)\nIzvaja
 lci: Rok Kostanjšek\nProstor: Predavalnica Biologija B2
END:VEVENT
BEGIN:VEVENT
SUMMARY:Zoologija strunarjev PeF (0070701)\, predavanja in seminarji (P+S)
DTSTART;TZID=Europe/Ljubljana:20251013T131500
DTEND;TZID=Europe/Ljubljana:20251013T150000
DTSTAMP:20260419T220443Z
UID:bf-AFLABS-URNIK:srecanje:25658-2025-10-13 13:15:00+02:00
DESCRIPTION:Predmet: Zoologija strunarjev PeF (0070701)\, predavanja in se
 minarji (P+S)\nLetniki: Dvopredmetni učitelj 2. letnik (BI-CH-HE)\nIzvaja
 lci: Rok Kostanjšek\nProstor: Predavalnica Biologija B2
END:VEVENT
BEGIN:VEVENT
SUMMARY:Zoologija strunarjev PeF (0070701)\, predavanja in seminarji (P+S)
DTSTART;TZID=Europe/Ljubljana:20251020T131500
DTEND;TZID=Europe/Ljubljana:20251020T150000
DTSTAMP:20260419T220443Z
UID:bf-AFLABS-URNIK:srecanje:25658-2025-10-20 13:15:00+02:00
DESCRIPTION:Predmet: Zoologija strunarjev PeF (0070701)\, predavanja in se
 minarji (P+S)\nLetniki: Dvopredmetni učitelj 2. letnik (BI-CH-HE)\nIzvaja
 lci: Rok Kostanjšek\nProstor: Predavalnica Biologija B2
END:VEVENT
BEGIN:VEVENT
SUMMARY:Zoologija strunarjev PeF (0070701)\, predavanja in seminarji (P+S)
DTSTART;TZID=Europe/Ljubljana:20251027T131500
DTEND;TZID=Europe/Ljubljana:20251027T150000
DTSTAMP:20260419T220443Z
UID:bf-AFLABS-URNIK:srecanje:25658-2025-10-27 13:15:00+01:00
DESCRIPTION:Predmet: Zoologija strunarjev PeF (0070701)\, predavanja in se
 minarji (P+S)\nLetniki: Dvopredmetni učitelj 2. letnik (BI-CH-HE)\nIzvaja
 lci: Rok Kostanjšek\nProstor: Predavalnica Biologija B2
END:VEVENT
BEGIN:VEVENT
SUMMARY:Zoologija strunarjev PeF (0070701)\, predavanja in seminarji (P+S)
DTSTART;TZID=Europe/Ljubljana:20251103T131500
DTEND;TZID=Europe/Ljubljana:20251103T150000
DTSTAMP:20260419T220443Z
UID:bf-AFLABS-URNIK:srecanje:25658-2025-11-03 13:15:00+01:00
DESCRIPTION:Predmet: Zoologija strunarjev PeF (0070701)\, predavanja in se
 minarji (P+S)\nLetniki: Dvopredmetni učitelj 2. letnik (BI-CH-HE)\nIzvaja
 lci: Rok Kostanjšek\nProstor: Predavalnica Biologija B2
END:VEVENT
BEGIN:VEVENT
SUMMARY:Zoologija strunarjev PeF (0070701)\, predavanja in seminarji (P+S)
DTSTART;TZID=Europe/Ljubljana:20251110T131500
DTEND;TZID=Europe/Ljubljana:20251110T150000
DTSTAMP:20260419T220443Z
UID:bf-AFLABS-URNIK:srecanje:25658-2025-11-10 13:15:00+01:00
DESCRIPTION:Predmet: Zoologija strunarjev PeF (0070701)\, predavanja in se
 minarji (P+S)\nLetniki: Dvopredmetni učitelj 2. letnik (BI-CH-HE)\nIzvaja
 lci: Rok Kostanjšek\nProstor: Predavalnica Biologija B2
END:VEVENT
BEGIN:VEVENT
SUMMARY:Embriologija (BI332)\, predavanja in seminarji (P+S)
DTSTART;TZID=Europe/Ljubljana:20251007T130000
DTEND;TZID=Europe/Ljubljana:20251007T150000
DTSTAMP:20260419T220443Z
UID:bf-AFLABS-URNIK:srecanje:24731-2025-10-07 13:00:00+02:00
DESCRIPTION:Predmet: Embriologija (BI332)\, predavanja in seminarji (P+S)\
 nLetniki: Molekulska in funkcionalna biologija 1. letnik (MMFB)\nIzvajalci
 : Lilijana Bizjak-Mali\, Rok Kostanjšek\nProstor: Predavalnica Biologija 
 B3
END:VEVENT
BEGIN:VEVENT
SUMMARY:Embriologija (BI332)\, predavanja in seminarji (P+S)
DTSTART;TZID=Europe/Ljubljana:20251014T130000
DTEND;TZID=Europe/Ljubljana:20251014T150000
DTSTAMP:20260419T220443Z
UID:bf-AFLABS-URNIK:srecanje:24731-2025-10-14 13:00:00+02:00
DESCRIPTION:Predmet: Embriologija (BI332)\, predavanja in seminarji (P+S)\
 nLetniki: Molekulska in funkcionalna biologija 1. letnik (MMFB)\nIzvajalci
 : Lilijana Bizjak-Mali\, Rok Kostanjšek\nProstor: Predavalnica Biologija 
 B3
END:VEVENT
BEGIN:VEVENT
SUMMARY:Embriologija (BI332)\, predavanja in seminarji (P+S)
DTSTART;TZID=Europe/Ljubljana:20251021T130000
DTEND;TZID=Europe/Ljubljana:20251021T150000
DTSTAMP:20260419T220443Z
UID:bf-AFLABS-URNIK:srecanje:24731-2025-10-21 13:00:00+02:00
DESCRIPTION:Predmet: Embriologija (BI332)\, predavanja in seminarji (P+S)\
 nLetniki: Molekulska in funkcionalna biologija 1. letnik (MMFB)\nIzvajalci
 : Lilijana Bizjak-Mali\, Rok Kostanjšek\nProstor: Predavalnica Biologija 
 B3
END:VEVENT
BEGIN:VEVENT
SUMMARY:Embriologija (BI332)\, predavanja in seminarji (P+S)
DTSTART;TZID=Europe/Ljubljana:20251028T130000
DTEND;TZID=Europe/Ljubljana:20251028T150000
DTSTAMP:20260419T220443Z
UID:bf-AFLABS-URNIK:srecanje:24731-2025-10-28 13:00:00+01:00
DESCRIPTION:Predmet: Embriologija (BI332)\, predavanja in seminarji (P+S)\
 nLetniki: Molekulska in funkcionalna biologija 1. letnik (MMFB)\nIzvajalci
 : Lilijana Bizjak-Mali\, Rok Kostanjšek\nProstor: Predavalnica Biologija 
 B3
END:VEVENT
BEGIN:VEVENT
SUMMARY:Embriologija (BI332)\, predavanja in seminarji (P+S)
DTSTART;TZID=Europe/Ljubljana:20251104T130000
DTEND;TZID=Europe/Ljubljana:20251104T150000
DTSTAMP:20260419T220443Z
UID:bf-AFLABS-URNIK:srecanje:24731-2025-11-04 13:00:00+01:00
DESCRIPTION:Predmet: Embriologija (BI332)\, predavanja in seminarji (P+S)\
 nLetniki: Molekulska in funkcionalna biologija 1. letnik (MMFB)\nIzvajalci
 : Lilijana Bizjak-Mali\, Rok Kostanjšek\nProstor: Predavalnica Biologija 
 B3
END:VEVENT
BEGIN:VEVENT
SUMMARY:Embriologija (BI332)\, predavanja in seminarji (P+S)
DTSTART;TZID=Europe/Ljubljana:20251111T130000
DTEND;TZID=Europe/Ljubljana:20251111T150000
DTSTAMP:20260419T220443Z
UID:bf-AFLABS-URNIK:srecanje:24731-2025-11-11 13:00:00+01:00
DESCRIPTION:Predmet: Embriologija (BI332)\, predavanja in seminarji (P+S)\
 nLetniki: Molekulska in funkcionalna biologija 1. letnik (MMFB)\nIzvajalci
 : Lilijana Bizjak-Mali\, Rok Kostanjšek\nProstor: Predavalnica Biologija 
 B3
END:VEVENT
BEGIN:VEVENT
SUMMARY:Sestanek - Veterinarski nadzor živali na oddelku
DTSTART;TZID=Europe/Ljubljana:20251022T120000
DTEND;TZID=Europe/Ljubljana:20251022T133000
DTSTAMP:20260419T220443Z
UID:bf-AFLABS-URNIK:rezervacija:24487
CATEGORIES:Reservation
COLOR:royalblue
DESCRIPTION:Predmeti: \nLetniki: \nIzvajalci: Rok Kostanjšek\nProstori: S
 ejna soba Biologija
LOCATION:Department of biology\, Sejna soba Biologija
ORGANIZER:Rok Kostanjšek
X-WR-TIMEZONE:Europe/Ljubljana
END:VEVENT
END:VCALENDAR
