BEGIN:VCALENDAR
VERSION:2.0
PRODID:-//AFLabs urnik izvoz - bf//aflabs.si//SI
NAME:UL BF Urnik
X-WR-CALNAME:UL BF Urnik
DTSTAMP:20260423T061711Z
REFRESH-INTERVAL:PT1H
SOURCE:https://urniki.bf.uni-lj.si/en/subject/983/?export=1
URL:https://urniki.bf.uni-lj.si/en/subject/983/?export=1
X-PUBLISHED-TTL:PT1H
X-WR-TIMEZONE:Europe/Ljubljana
BEGIN:VTIMEZONE
TZID:Europe/Ljubljana
BEGIN:DAYLIGHT
DTSTART:20260329T020000
RDATE:20260329T020000
RDATE:20270328T020000
TZNAME:CEST
TZOFFSETFROM:+0100
TZOFFSETTO:+0200
END:DAYLIGHT
BEGIN:STANDARD
DTSTART:20261025T030000
RDATE:20261025T030000
RDATE:20271031T030000
TZNAME:CET
TZOFFSETFROM:+0200
TZOFFSETTO:+0100
END:STANDARD
END:VTIMEZONE
BEGIN:VEVENT
SUMMARY:Mikrobi in hormoni (MB031)\, predavanja (P)
DTSTART;TZID=Europe/Ljubljana:20260216T140000
DTEND;TZID=Europe/Ljubljana:20260216T160000
DTSTAMP:20260423T061711Z
UID:bf-AFLABS-URNIK:srecanje:29483-2026-02-16 14:00:00+01:00
DESCRIPTION:Predmet: Mikrobi in hormoni (MB031)\, predavanja (P)\nLetniki:
  Mikrobiologija 3. letnik (MBUN)\nIzvajalci: Marjanca Starčič Erjavec\nP
 rostor: Predavalnica Biologija B3
END:VEVENT
BEGIN:VEVENT
SUMMARY:Mikrobi in hormoni (MB031)\, seminarji (S)
DTSTART;TZID=Europe/Ljubljana:20260220T140000
DTEND;TZID=Europe/Ljubljana:20260220T160000
DTSTAMP:20260423T061711Z
UID:bf-AFLABS-URNIK:srecanje:27183-2026-02-20 14:00:00+01:00
DESCRIPTION:Predmet: Mikrobi in hormoni (MB031)\, seminarji (S)\nLetniki: 
 Mikrobiologija 3. letnik (MBUN)\nIzvajalci: Polonca Štefanič\nProstor: P
 redavalnica Biologija B2
END:VEVENT
BEGIN:VEVENT
SUMMARY:Mikrobi in hormoni (MB031)\, seminarji (S)
DTSTART;TZID=Europe/Ljubljana:20260227T140000
DTEND;TZID=Europe/Ljubljana:20260227T160000
DTSTAMP:20260423T061711Z
UID:bf-AFLABS-URNIK:srecanje:27183-2026-02-27 14:00:00+01:00
DESCRIPTION:Predmet: Mikrobi in hormoni (MB031)\, seminarji (S)\nLetniki: 
 Mikrobiologija 3. letnik (MBUN)\nIzvajalci: Polonca Štefanič\nProstor: P
 redavalnica Biologija B2
END:VEVENT
BEGIN:VEVENT
SUMMARY:Mikrobi in hormoni (MB031)\, seminarji (S)
DTSTART;TZID=Europe/Ljubljana:20260306T140000
DTEND;TZID=Europe/Ljubljana:20260306T160000
DTSTAMP:20260423T061711Z
UID:bf-AFLABS-URNIK:srecanje:27183-2026-03-06 14:00:00+01:00
DESCRIPTION:Predmet: Mikrobi in hormoni (MB031)\, seminarji (S)\nLetniki: 
 Mikrobiologija 3. letnik (MBUN)\nIzvajalci: Polonca Štefanič\nProstor: P
 redavalnica Biologija B2
END:VEVENT
BEGIN:VEVENT
SUMMARY:Mikrobi in hormoni (MB031)\, seminarji (S)
DTSTART;TZID=Europe/Ljubljana:20260313T140000
DTEND;TZID=Europe/Ljubljana:20260313T160000
DTSTAMP:20260423T061711Z
UID:bf-AFLABS-URNIK:srecanje:27183-2026-03-13 14:00:00+01:00
DESCRIPTION:Predmet: Mikrobi in hormoni (MB031)\, seminarji (S)\nLetniki: 
 Mikrobiologija 3. letnik (MBUN)\nIzvajalci: Polonca Štefanič\nProstor: P
 redavalnica Biologija B2
END:VEVENT
BEGIN:VEVENT
SUMMARY:Mikrobi in hormoni (MB031)\, seminarji (S)
DTSTART;TZID=Europe/Ljubljana:20260320T140000
DTEND;TZID=Europe/Ljubljana:20260320T160000
DTSTAMP:20260423T061711Z
UID:bf-AFLABS-URNIK:srecanje:27183-2026-03-20 14:00:00+01:00
DESCRIPTION:Predmet: Mikrobi in hormoni (MB031)\, seminarji (S)\nLetniki: 
 Mikrobiologija 3. letnik (MBUN)\nIzvajalci: Polonca Štefanič\nProstor: P
 redavalnica Biologija B2
END:VEVENT
BEGIN:VEVENT
SUMMARY:Mikrobi in hormoni (MB031)\, seminarji (S)
DTSTART;TZID=Europe/Ljubljana:20260327T140000
DTEND;TZID=Europe/Ljubljana:20260327T160000
DTSTAMP:20260423T061711Z
UID:bf-AFLABS-URNIK:srecanje:27183-2026-03-27 14:00:00+01:00
DESCRIPTION:Predmet: Mikrobi in hormoni (MB031)\, seminarji (S)\nLetniki: 
 Mikrobiologija 3. letnik (MBUN)\nIzvajalci: Polonca Štefanič\nProstor: P
 redavalnica Biologija B2
END:VEVENT
BEGIN:VEVENT
SUMMARY:Mikrobi in hormoni (MB031)\, seminarji (S)
DTSTART;TZID=Europe/Ljubljana:20260403T140000
DTEND;TZID=Europe/Ljubljana:20260403T160000
DTSTAMP:20260423T061711Z
UID:bf-AFLABS-URNIK:srecanje:27183-2026-04-03 14:00:00+02:00
DESCRIPTION:Predmet: Mikrobi in hormoni (MB031)\, seminarji (S)\nLetniki: 
 Mikrobiologija 3. letnik (MBUN)\nIzvajalci: Polonca Štefanič\nProstor: P
 redavalnica Biologija B2
END:VEVENT
BEGIN:VEVENT
SUMMARY:Mikrobi in hormoni (MB031)\, drugo delo (DD)
DTSTART;TZID=Europe/Ljubljana:20260220T120000
DTEND;TZID=Europe/Ljubljana:20260220T140000
DTSTAMP:20260423T061711Z
UID:bf-AFLABS-URNIK:srecanje:29490-2026-02-20 12:00:00+01:00
DESCRIPTION:Predmet: Mikrobi in hormoni (MB031)\, drugo delo (DD)\nLetniki
 : Mikrobiologija 3. letnik (MBUN)\nIzvajalci: Polonca Štefanič\nProstor:
  Predavalnica Biologija B2
END:VEVENT
BEGIN:VEVENT
SUMMARY:Mikrobi in hormoni (MB031)\, drugo delo (DD)
DTSTART;TZID=Europe/Ljubljana:20260227T120000
DTEND;TZID=Europe/Ljubljana:20260227T140000
DTSTAMP:20260423T061711Z
UID:bf-AFLABS-URNIK:srecanje:29490-2026-02-27 12:00:00+01:00
DESCRIPTION:Predmet: Mikrobi in hormoni (MB031)\, drugo delo (DD)\nLetniki
 : Mikrobiologija 3. letnik (MBUN)\nIzvajalci: Polonca Štefanič\nProstor:
  Predavalnica Biologija B2
END:VEVENT
BEGIN:VEVENT
SUMMARY:Mikrobi in hormoni (MB031)\, drugo delo (DD)
DTSTART;TZID=Europe/Ljubljana:20260306T120000
DTEND;TZID=Europe/Ljubljana:20260306T140000
DTSTAMP:20260423T061711Z
UID:bf-AFLABS-URNIK:srecanje:29490-2026-03-06 12:00:00+01:00
DESCRIPTION:Predmet: Mikrobi in hormoni (MB031)\, drugo delo (DD)\nLetniki
 : Mikrobiologija 3. letnik (MBUN)\nIzvajalci: Polonca Štefanič\nProstor:
  Predavalnica Biologija B2
END:VEVENT
BEGIN:VEVENT
SUMMARY:Mikrobi in hormoni (MB031)\, drugo delo (DD)
DTSTART;TZID=Europe/Ljubljana:20260313T120000
DTEND;TZID=Europe/Ljubljana:20260313T140000
DTSTAMP:20260423T061711Z
UID:bf-AFLABS-URNIK:srecanje:29490-2026-03-13 12:00:00+01:00
DESCRIPTION:Predmet: Mikrobi in hormoni (MB031)\, drugo delo (DD)\nLetniki
 : Mikrobiologija 3. letnik (MBUN)\nIzvajalci: Polonca Štefanič\nProstor:
  Predavalnica Biologija B2
END:VEVENT
BEGIN:VEVENT
SUMMARY:Mikrobi in hormoni (MB031)\, drugo delo (DD)
DTSTART;TZID=Europe/Ljubljana:20260320T120000
DTEND;TZID=Europe/Ljubljana:20260320T140000
DTSTAMP:20260423T061711Z
UID:bf-AFLABS-URNIK:srecanje:29490-2026-03-20 12:00:00+01:00
DESCRIPTION:Predmet: Mikrobi in hormoni (MB031)\, drugo delo (DD)\nLetniki
 : Mikrobiologija 3. letnik (MBUN)\nIzvajalci: Polonca Štefanič\nProstor:
  Predavalnica Biologija B2
END:VEVENT
BEGIN:VEVENT
SUMMARY:Mikrobi in hormoni (MB031)\, drugo delo (DD)
DTSTART;TZID=Europe/Ljubljana:20260327T120000
DTEND;TZID=Europe/Ljubljana:20260327T140000
DTSTAMP:20260423T061711Z
UID:bf-AFLABS-URNIK:srecanje:29490-2026-03-27 12:00:00+01:00
DESCRIPTION:Predmet: Mikrobi in hormoni (MB031)\, drugo delo (DD)\nLetniki
 : Mikrobiologija 3. letnik (MBUN)\nIzvajalci: Polonca Štefanič\nProstor:
  Predavalnica Biologija B2
END:VEVENT
BEGIN:VEVENT
SUMMARY:Mikrobi in hormoni (MB031)\, drugo delo (DD)
DTSTART;TZID=Europe/Ljubljana:20260403T120000
DTEND;TZID=Europe/Ljubljana:20260403T140000
DTSTAMP:20260423T061711Z
UID:bf-AFLABS-URNIK:srecanje:29490-2026-04-03 12:00:00+02:00
DESCRIPTION:Predmet: Mikrobi in hormoni (MB031)\, drugo delo (DD)\nLetniki
 : Mikrobiologija 3. letnik (MBUN)\nIzvajalci: Polonca Štefanič\nProstor:
  Predavalnica Biologija B2
END:VEVENT
BEGIN:VEVENT
SUMMARY:Mikrobi in hormoni (MB031)\, predavanja (P)
DTSTART;TZID=Europe/Ljubljana:20260223T140000
DTEND;TZID=Europe/Ljubljana:20260223T160000
DTSTAMP:20260423T061711Z
UID:bf-AFLABS-URNIK:srecanje:29496-2026-02-23 14:00:00+01:00
DESCRIPTION:Predmet: Mikrobi in hormoni (MB031)\, predavanja (P)\nLetniki:
  Mikrobiologija 3. letnik (MBUN)\nIzvajalci: Polonca Štefanič\nProstor: 
 Predavalnica Biologija B3
END:VEVENT
BEGIN:VEVENT
SUMMARY:Mikrobi in hormoni (MB031)\, predavanja (P)
DTSTART;TZID=Europe/Ljubljana:20260302T140000
DTEND;TZID=Europe/Ljubljana:20260302T160000
DTSTAMP:20260423T061711Z
UID:bf-AFLABS-URNIK:srecanje:29496-2026-03-02 14:00:00+01:00
DESCRIPTION:Predmet: Mikrobi in hormoni (MB031)\, predavanja (P)\nLetniki:
  Mikrobiologija 3. letnik (MBUN)\nIzvajalci: Polonca Štefanič\nProstor: 
 Predavalnica Biologija B3
END:VEVENT
BEGIN:VEVENT
SUMMARY:Mikrobi in hormoni (MB031)\, predavanja (P)
DTSTART;TZID=Europe/Ljubljana:20260309T140000
DTEND;TZID=Europe/Ljubljana:20260309T160000
DTSTAMP:20260423T061711Z
UID:bf-AFLABS-URNIK:srecanje:29496-2026-03-09 14:00:00+01:00
DESCRIPTION:Predmet: Mikrobi in hormoni (MB031)\, predavanja (P)\nLetniki:
  Mikrobiologija 3. letnik (MBUN)\nIzvajalci: Polonca Štefanič\nProstor: 
 Predavalnica Biologija B3
END:VEVENT
BEGIN:VEVENT
SUMMARY:Mikrobi in hormoni (MB031)\, predavanja (P)
DTSTART;TZID=Europe/Ljubljana:20260316T140000
DTEND;TZID=Europe/Ljubljana:20260316T160000
DTSTAMP:20260423T061711Z
UID:bf-AFLABS-URNIK:srecanje:29496-2026-03-16 14:00:00+01:00
DESCRIPTION:Predmet: Mikrobi in hormoni (MB031)\, predavanja (P)\nLetniki:
  Mikrobiologija 3. letnik (MBUN)\nIzvajalci: Polonca Štefanič\nProstor: 
 Predavalnica Biologija B3
END:VEVENT
BEGIN:VEVENT
SUMMARY:Mikrobi in hormoni (MB031)\, predavanja (P)
DTSTART;TZID=Europe/Ljubljana:20260323T140000
DTEND;TZID=Europe/Ljubljana:20260323T160000
DTSTAMP:20260423T061711Z
UID:bf-AFLABS-URNIK:srecanje:29496-2026-03-23 14:00:00+01:00
DESCRIPTION:Predmet: Mikrobi in hormoni (MB031)\, predavanja (P)\nLetniki:
  Mikrobiologija 3. letnik (MBUN)\nIzvajalci: Polonca Štefanič\nProstor: 
 Predavalnica Biologija B3
END:VEVENT
BEGIN:VEVENT
SUMMARY:Mikrobi in hormoni (MB031)\, predavanja (P)
DTSTART;TZID=Europe/Ljubljana:20260330T140000
DTEND;TZID=Europe/Ljubljana:20260330T160000
DTSTAMP:20260423T061711Z
UID:bf-AFLABS-URNIK:srecanje:29496-2026-03-30 14:00:00+02:00
DESCRIPTION:Predmet: Mikrobi in hormoni (MB031)\, predavanja (P)\nLetniki:
  Mikrobiologija 3. letnik (MBUN)\nIzvajalci: Polonca Štefanič\nProstor: 
 Predavalnica Biologija B3
END:VEVENT
BEGIN:VEVENT
SUMMARY:Izpit MIH
DTSTART;TZID=Europe/Ljubljana:20260507T120000
DTEND;TZID=Europe/Ljubljana:20260507T130000
DTSTAMP:20260423T061711Z
UID:bf-AFLABS-URNIK:rezervacija:29185
ATTENDEE:Mikrobiologija 3. letnik (MBUN)
CATEGORIES:Reservation
COLOR:royalblue
DESCRIPTION:Predmeti: Mikrobi in hormoni (MB031)\nLetniki: Mikrobiologija 
 3. letnik (MBUN)\nIzvajalci: Polonca Štefanič\nProstori: Predavalnica Bi
 ologija B1
LOCATION:Department of biology\, Predavalnica Biologija B1
ORGANIZER:Polonca Štefanič
X-WR-TIMEZONE:Europe/Ljubljana
END:VEVENT
BEGIN:VEVENT
SUMMARY:izpit MIH
DTSTART;TZID=Europe/Ljubljana:20260424T150000
DTEND;TZID=Europe/Ljubljana:20260424T160000
DTSTAMP:20260423T061711Z
UID:bf-AFLABS-URNIK:rezervacija:29186
ATTENDEE:Mikrobiologija 3. letnik (MBUN)
CATEGORIES:Reservation
COLOR:royalblue
DESCRIPTION:Predmeti: Mikrobi in hormoni (MB031)\nLetniki: Mikrobiologija 
 3. letnik (MBUN)\nIzvajalci: Polonca Štefanič\nProstori: Predavalnica Bi
 ologija B2
LOCATION:Department of biology\, Predavalnica Biologija B2
ORGANIZER:Polonca Štefanič
X-WR-TIMEZONE:Europe/Ljubljana
END:VEVENT
END:VCALENDAR
